Workbook

Sheet Document Information
A1: This document presents the housing trajectory for Huntingdonshire's Pre-Submission Local Plan to 2046
A3: There are two information tabs
A5: Tab 1 - Local Plan Housing Trajectory
A6: This tab sets out the the number of homes expected to be built over the local plan period to 2046
A7: The information is drawn from questionnaires which were sent to developers and land owners of sites to find out when they expect to build homes on their sites.
A8: We have looked at the replies from developers and land owners and where we think they are over-optimistic we have amended them - you can find this in the notes in column D.
A10: This table gives a description of each column in tab 1 - Local Plan housing trajectory.
A12: Column A | B12: Status / site reference | C12: This identifies whether the site has planning permission, gives any planning application reference number or the name of the site if it is allocated in Huntingdonshire's Local Plan to 2036 or if it is a proposed allocation in the Pre-submission Local Plan. It also identifies groups of sites such as rural exceptions sites.
A13: Column B | B13: Name and address of site | C13: This shows where the site is.
A14: Column C | B14: Site area in hectares (ha) | C14: This shows how big the site is in hectares.
A15: Column D | B15: Notes | C15: These explain the type of site, progress with planning applications or building. It notes any amendments to the developer or land owners anticipated delivery trajectory.
A16: Column E | B16: Homes built (net) | C16: The number of homes already completed on the site.
A17: Column F | B17: Homes remaining (net) | C17: The number of homes still expected to be built on the site.
A18: Column G | B18: Total no. of homes by 2046 | C18: The number of homes expected tobe built by 2046 (this may not be all the homes expected on the site).
A19: Column H | B19: Number of homes in 5YHLS | C19: The number of homes expected to be built within the first 5 years after the expected adoption date of the plan (2028).
A20: Columns I to AB | B20: Years | C20: Each column shows the number of homes expected to be built within that year.
A21: Column AC | B21: Total 2026 - 2046 | C21: The total number of homes expected to be built on each site between 2026 and 2046.
A22: Column AD | B22: Total after 2046 | C22: The total number of homes expected to be built on each site after 2046.
A24: As you scroll through the spreadsheet the sites are grouped under the following headings:
A26: Existing planning permissions - unallocated sites | C26: These are sites which already have planning permission.
A27: Local plan to 2036 allocations | C27: These are sites which are allocated in the adopted local plan to 2036.
A28: Other commitments: subject to S106 | C28: These are sites which the council have agreed to approve but are waiting for a legal agreement to be finalised.
A29: Other sources: prior approval conversions to C3 residential use under GDPO | C29: These are sites where the principle of conversion of a building to a home was allowed under national regulations but details needed approving by the council.
A30: Windfall and rural exception sites | C30: These are sites which are expected to come forward in the plan period but may not have permission yet. These figures are worked out using past building trends.
A31: Pre-submission allocations in local plan to 2046 | C31: These are sites which are included in the Pre-submission local plan which include new homes.
A33: Tab 2 - Housing trajectory summary
A34: This tab provides a summary table that includes the number of homes completed and forecast to be completed by year throughout the plan period.
A35: It also includes a running total of the number of homes completed and forecast to be completed by year throughout the plan period.
A36: It provides the target annual number of homes that the local plan aims to achieve.
A37: It includes a graph showing the number of homes completed and forecast to be completed by year throughout the plan period against the target.

Sheet Local Plan housing trajectory
A1: Pre-Submission Local Plan Housing Trajectory
K3: Five Year Supply Period
A4: Status / Site reference as at 31/03/2026 | B4: Name and address of site | C4: Site area (ha) | D4: Notes | E4: Homes built (net) | F4: Homes remaining (net) | G4: Total no. homes by 2046 | H4: Number of homes in 5YHLS | I4: 2026/27 | J4: 2027/28 | K4: 2028/29 Yr 1 | L4: 2029/30 Yr 2 | M4: 2030/31 Yr 3 | N4: 2031/32 Yr 4 | O4: 3032/33 Yr 5 | P4: 2033/34 Yr 6 | Q4: 2034/35 Yr 7 | R4: 2035/36 Yr 8 | S4: 2036/37 Yr 9 | T4: 2037/38 Yr 10 | U4: 2038/39 Yr 11 | V4: 2039/40 Yr 12 | W4: 2040/41 Yr 13 | X4: 2041/42 Yr 14 | Y4: 2042/43 Yr 15 | Z4: 2043/44 Yr 16 | AA4: 2044/45 Yr 17 | AB4: 2045/46 Yr 18 | AC4: Total 2026-2046 | AD4: Total after 2046
A5: Existing Planning Permissions - Unallocated sites
A6: Reserved Matters 0301597REM | B6: The Old Granary, Gidding Rd, Sawtry | C6: 0.6 | D6: Brownfield. Rough foundations in place so material start has been implemented some years ago. A revised surface water drainage strategy for the site has been resolved with the Middle Level Commissioners. There are some legal matters being addressed on site which are with solicitors now. | E6: 0 | F6: 10 | G6: =SUM(E6+AC6) -> 10 | H6: =SUM(K6:O6) -> 10 | I6: 0 | J6: 0 | K6: 10 | L6: 0 | M6: 0 | N6: 0 | O6: 0 | P6: 0 | Q6: 0 | R6: 0 | S6: 0 | T6: 0 | U6: 0 | V6: 0 | W6: 0 | X6: 0 | Y6: 0 | Z6: 0 | AA6: 0 | AB6: 0 | AC6: =SUM(I6:AB6) -> 10 | AD6: 0
A7: Full 18/00212/FUL | B7: Former British Red Cross Society, Huntingdon | C7: 0.16 | D7: Brownfield. Units (7 apartments and 3 houses) under construction as at 31 March 2026. Have completed since. | E7: 0 | F7: 10 | G7: =SUM(E7+AC7) -> 10 | H7: =SUM(K7:O7) -> 0 | I7: 10 | J7: 0 | K7: 0 | L7: 0 | M7: 0 | N7: 0 | O7: 0 | P7: 0 | Q7: 0 | R7: 0 | S7: 0 | T7: 0 | U7: 0 | V7: 0 | W7: 0 | X7: 0 | Y7: 0 | Z7: 0 | AA7: 0 | AB7: 0 | AC7: =SUM(I7:AB7) -> 10 | AD7: 0
A8: Outline 17/00101/OUT Reserved Matters 20/00923/REM | B8: D J C Produce, Pingle Bank, Holme | C8: 0.99 | D8: Brownfield. Outline application was approved in May 2019. Reserved matters application (20/00923/REM) was approved in February 2023. Under construction April 2026. | E8: 0 | F8: 25 | G8: =SUM(E8+AC8) -> 25 | H8: =SUM(K8:O8) -> 0 | I8: 0 | J8: 25 | K8: 0 | L8: 0 | M8: 0 | N8: 0 | O8: 0 | P8: 0 | Q8: 0 | R8: 0 | S8: 0 | T8: 0 | U8: 0 | V8: 0 | W8: 0 | X8: 0 | Y8: 0 | Z8: 0 | AA8: 0 | AB8: 0 | AC8: =SUM(I8:AB8) -> 25 | AD8: 0
A9: Outline 18/01073/OUT Reserved Matters 21/01723/REM | B9: Land Rear Of 92 To 108 High Street, Needingworth | C9: 4.6 | D9: Greenfield. 21/01723/REM was approved in February 2022. Remains extant through approval of 24/00365/CLPD. Sites is solely for all affordable homes with Cross Keys Homes delivering the site. They are awaiting a Homes England grant via the Affordable Homes Programme to ensure the viability of the site. Deferred by one year as waiting grant. | E9: 0 | F9: 45 | G9: =SUM(E9+AC9) -> 45 | H9: =SUM(K9:O9) -> 45 | I9: 0 | J9: 0 | K9: 20 | L9: 25 | M9: 0 | N9: 0 | O9: 0 | P9: 0 | Q9: 0 | R9: 0 | S9: 0 | T9: 0 | U9: 0 | V9: 0 | W9: 0 | X9: 0 | Y9: 0 | Z9: 0 | AA9: 0 | AB9: 0 | AC9: =SUM(I9:AB9) -> 45 | AD9: 0
A10: Outline 18/02192/OUT Reserved Matters 21/01808/REM | B10: Land West Of 26 To 34 High Street, Stilton | C10: 4.25 | D10: Greenfield. The site was approved in May 2019. Remains extant through 24/00529/CLPD. The site has been sold to Cross Keys Homes. 21/01808/REM approved in March 2022. Viability of the site will require Homes England Grant. Split over two years. | E10: 0 | F10: 70 | G10: =SUM(E10+AC10) -> 70 | H10: =SUM(K10:O10) -> 0 | I10: 20 | J10: 50 | K10: 0 | L10: 0 | M10: 0 | N10: 0 | O10: 0 | P10: 0 | Q10: 0 | R10: 0 | S10: 0 | T10: 0 | U10: 0 | V10: 0 | W10: 0 | X10: 0 | Y10: 0 | Z10: 0 | AA10: 0 | AB10: 0 | AC10: =SUM(I10:AB10) -> 70 | AD10: 0
A11: Outline 21/01810/OUT | B11: Land West Of 26 To 34 High Street, Stilton | C11: 2.05 | D11: Greenfield. Outline for 16 dwellings and associated Infrastructure works and access. Decision notice sent out in February 2026. One housebuilder involved (Seagate). Cross Keys Homes expected to submit a reserve matters planning application by the end of 2026. Viability of site will require Homes England grant. | E11: 0 | F11: 16 | G11: =SUM(E11+AC11) -> 16 | H11: =SUM(K11:O11) -> 16 | I11: 0 | J11: 0 | K11: 0 | L11: 16 | M11: 0 | N11: 0 | O11: 0 | P11: 0 | Q11: 0 | R11: 0 | S11: 0 | T11: 0 | U11: 0 | V11: 0 | W11: 0 | X11: 0 | Y11: 0 | Z11: 0 | AA11: 0 | AB11: 0 | AC11: =SUM(I11:AB11) -> 16 | AD11: 0
A12: Outline 22/01926/OUT | B12: Land At Fenton Fields Farm, Bencroft Lane, Warboys | C12: 0.59 | D12: Greenfield. 22/01926/OUT was approved May 2023. Access has been secured from the adjacent WB4 (South of Farrier's Way) which is now complete. Reserved matters submitted by March 2026 (26/00483/REM). Estimated. | E12: 0 | F12: 10 | G12: =SUM(E12+AC12) -> 10 | H12: =SUM(K12:O12) -> 10 | I12: 0 | J12: 0 | K12: 5 | L12: 5 | M12: 0 | N12: 0 | O12: 0 | P12: 0 | Q12: 0 | R12: 0 | S12: 0 | T12: 0 | U12: 0 | V12: 0 | W12: 0 | X12: 0 | Y12: 0 | Z12: 0 | AA12: 0 | AB12: 0 | AC12: =SUM(I12:AB12) -> 10 | AD12: 0
A13: Full 20/00285/FUL | B13: F Vindis And Sons Ltd, Low Road, Fenstanton | C13: 2.76 | D13: Brownfield. Full application for 94 dwellings approved in March 2022. Now solely an affordable housing scheme following purchase by Settle Housing Association and qualifying from funding from Homes England. All units under construction with a high proportion of flats. Estimated | E13: 0 | F13: 94 | G13: =SUM(E13+AC13) -> 94 | H13: =SUM(K13:O13) -> 0 | I13: 94 | J13: 0 | K13: 0 | L13: 0 | M13: 0 | N13: 0 | O13: 0 | P13: 0 | Q13: 0 | R13: 0 | S13: 0 | T13: 0 | U13: 0 | V13: 0 | W13: 0 | X13: 0 | Y13: 0 | Z13: 0 | AA13: 0 | AB13: 0 | AC13: =SUM(I13:AB13) -> 94 | AD13: 0
A14: Outline 19/00038/OUT Reserved Matters 21/01043/REM | B14: Meadow View Farm, Thrapston Road Brampton | C14: 2.23 | D14: Greenfield. Outline permission granted in April 2021 for 30 dwellings. 21/01043/REM for the 30 dwellings was approved in June 2022. Conditions being discharged and the removal of telecommunications infrastructure on site being explored. 1 dwelling demolished shown on county completions records 2024/25. 24/00767/CLPD approved for the construction of 30 dwellings. Estimated. | E14: 0 | F14: 30 | G14: =SUM(E14+AC14) -> 30 | H14: =SUM(K14:O14) -> 0 | I14: 0 | J14: 0 | K14: 0 | L14: 0 | M14: 0 | N14: 0 | O14: 0 | P14: 15 | Q14: 15 | R14: 0 | S14: 0 | T14: 0 | U14: 0 | V14: 0 | W14: 0 | X14: 0 | Y14: 0 | Z14: 0 | AA14: 0 | AB14: 0 | AC14: =SUM(I14:AB14) -> 30 | AD14: 0
A15: Outline 20/01407/OUT Reserved Matters 22/01080/REM | B15: Land North of Shawley Road and West of Glatton Road, Sawtry | C15: 34.25 | D15: Greenfield. Up to 340 dwellings permitted in November 2021 under 20/01407/OUT. 22/01080/REM was approved in October 2024. Two housebuilders are currently involved with delivering the scheme. Site under constructions. Response from Allison Homes and Taylor Wimpey (remaining 202) estimated. | E15: 0 | F15: 340 | G15: =SUM(E15+AC15) -> 340 | H15: =SUM(K15:O15) -> 206 | I15: 38 | J15: 56 | K15: 44 | L15: 42 | M15: 40 | N15: 40 | O15: 40 | P15: 40 | Q15: 0 | R15: 0 | S15: 0 | T15: 0 | U15: 0 | V15: 0 | W15: 0 | X15: 0 | Y15: 0 | Z15: 0 | AA15: 0 | AB15: 0 | AC15: =SUM(I15:AB15) -> 340 | AD15: 0
A16: Full 22/01439/FUL | B16: 11 - 12 The Pavement, St Ives | C16: 0.05 | D16: Brownfield. 22/01439/FUL was approved in December 2022 for the demolition and construction of three-storey building to provide10 self-contained units. One house builder involved. Under construction. Estimated | E16: 0 | F16: 10 | G16: =SUM(E16+AC16) -> 10 | H16: =SUM(K16:O16) -> 0 | I16: 0 | J16: 10 | K16: 0 | L16: 0 | M16: 0 | N16: 0 | O16: 0 | P16: 0 | Q16: 0 | R16: 0 | S16: 0 | T16: 0 | U16: 0 | V16: 0 | W16: 0 | X16: 0 | Y16: 0 | Z16: 0 | AA16: 0 | AB16: 0 | AC16: =SUM(I16:AB16) -> 10 | AD16: 0
A17: Full 18/02726/FUL | B17: Former Car Showroom, London Road, St Ives | C17: 1.53 | D17: Brownfield. Residential development of 49 dwellings following demolition of existing buildings on site. Approved in April 2022 and implemented. Notice for a full structural demolition of the existing buildings on site received in September 2024. 25/00385/CLED confirmed the lawful implementation of 18/02726/FUL. Viability challenging. Estimated. | E17: 0 | F17: 49 | G17: =SUM(E17+AC17) -> 49 | H17: =SUM(K17:O17) -> 24 | I17: 0 | J17: 0 | K17: 0 | L17: 0 | M17: 0 | N17: 0 | O17: 24 | P17: 25 | Q17: 0 | R17: 0 | S17: 0 | T17: 0 | U17: 0 | V17: 0 | W17: 0 | X17: 0 | Y17: 0 | Z17: 0 | AA17: 0 | AB17: 0 | AC17: =SUM(I17:AB17) -> 49 | AD17: 0
... A29: Full 24/01827/HDC | B29: Hotel 10-14 Market Square, St Neots | C29: 0.1 | D29: Brownfield. Total creation of 14 dwellings. The proposal requires the loss of two dwellings, there is a therefore a net gain of 12 dwellings which has been reflected in the trajectory. Approved December 2025. Estimated. | E29: 0 | F29: 12 | G29: =SUM(E29+AC29) -> 12 | H29: =SUM(K29:O29) -> 12 | I29: 0 | J29: 0 | K29: 0 | L29: 0 | M29: 12 | N29: 0 | O29: 0 | P29: 0 | Q29: 0 | R29: 0 | S29: 0 | T29: 0 | U29: 0 | V29: 0 | W29: 0 | X29: 0 | Y29: 0 | Z29: 0 | AA29: 0 | AB29: 0 | AC29: =SUM(I29:AB29) -> 12 | AD29: 0
A30: Total of small sites Full, Reserved Matters or Technical Details Consent under construction | B30: n/a | C30: n/a | D30: No discount applied as sites which are already started are expected to be delivered. | E30: n/a | F30: 101 | G30: 101 | H30: =SUM(K30:O30) -> 0 | I30: 51 | J30: 50 | K30: 0 | L30: 0 | M30: 0 | N30: 0 | O30: 0 | P30: 0 | Q30: 0 | R30: 0 | S30: 0 | T30: 0 | U30: 0 | V30: 0 | W30: 0 | X30: 0 | Y30: 0 | Z30: 0 | AA30: 0 | AB30: 0 | AC30: =SUM(I30:AB30) -> 101 | AD30: 0
A31: Total of small sites Full, Reserved Matters or Technical Details Consent not started at 31/03/26 | B31: n/a | C31: n/a | D31: A 10% discount has been applied to the total of sites not yet started to allow for some sites which may not be developed. | E31: n/a | F31: 215 | G31: 215 | H31: =SUM(K31:O31) -> 161 | I31: 0 | J31: 54 | K31: 54 | L31: 54 | M31: 53 | N31: 0 | O31: 0 | P31: 0 | Q31: 0 | R31: 0 | S31: 0 | T31: 0 | U31: 0 | V31: 0 | W31: 0 | X31: 0 | Y31: 0 | Z31: 0 | AA31: 0 | AB31: 0 | AC31: =SUM(I31:AB31) -> 215 | AD31: 0
A32: Total of small sites Outline and Permission in Principle | B32: n/a | C32: n/a | D32: A 10% discount has been applied to the total of sites not yet started to allow for some sites which may not be developed. | E32: n/a | F32: 110 | G32: 110 | H32: =SUM(K32:O32) -> 110 | I32: 0 | J32: 0 | K32: 0 | L32: 33 | M32: 45 | N32: 32 | O32: 0 | P32: 0 | Q32: 0 | R32: 0 | S32: 0 | T32: 0 | U32: 0 | V32: 0 | W32: 0 | X32: 0 | Y32: 0 | Z32: 0 | AA32: 0 | AB32: 0 | AC32: =SUM(I32:AB32) -> 110 | AD32: 0
D33: Subtotal | E33: =SUM(E6:E32) -> 0 | F33: =SUM(F6:F32) -> 1509 | G33: =SUM(G6:G32) -> 1509 | H33: =SUM(I33:K33) -> 753 | I33: =SUM(I6:I32) -> 213 | J33: =SUM(J6:J32) -> 260 | K33: =SUM(K6:K32) -> 280 | L33: =SUM(L6:L32) -> 269 | M33: =SUM(M6:M32) -> 200 | N33: =SUM(N6:N32) -> 128 | O33: =SUM(O6:O32) -> 64 | P33: =SUM(P6:P32) -> 80 | ... AD33: =SUM(AD6:AD32) -> 0
A35: Local Plan to 2036 Allocations
A36: SEL1 and HU1 Existing Planning Permissions - Local Plan Allocations Local Plan Allocation SEL1.1 Alconbury Weald Part Reserved Matters/ Part Outline 1201158OUT, Reserved Matters 15/01117/REM, 16/02013/REM, 16/01329/REM, 17/00802/REM, 18/01536/REM, 18/02223/REM, 21/00283/REM, 21/00764/REM, 21/00804/REM, 21/01548/REM, 21/02675/REM, 23/00271/REM, 23/00695/REM, 21/01548/REM, 17/00079/REM | B36: Alconbury Weald | C36: 575 | D36: Alconbury Weald - brownfield. The site is progressing well with eight or more housebuilders involved (Hopkins Homes, Morris Homes, Redrow Homes, Campbell Buchanan, Crest Nicholson, Lovell Partnership, Barratt David Wilson Homes, Cross Key Homes) and reserved matters applications submitted for residential and commercial development as well as for the delivery of site-wide infrastructure to ensure continued delivery. Development has now moved into phase 3. 155 dwellings are under construction as at 31 March 2025 with a further 665 benefiting from reserved matters approval. The Agent for the site anticipates the capacity of the site to be 6,500. This includes an additional 1,500 homes at Grange Farm for which an outline application was approved in October 2024 (19/01341/OUT). In last years survey, the Agent anticipated completions for Grange Farm to start from 2026/27 onwards. Minor amendment to the final years to reflect the completions. | E36: 1397 | F36: 3603 | G36: =SUM(E36+AC36) -> 5000 | H36: =SUM(K36:O36) -> 1050 | I36: 150 | J36: 250 | K36: 250 | L36: 225 | M36: 225 | N36: 175 | O36: 175 | P36: 200 | Q36: 200 | R36: 200 | S36: 200 | T36: 225 | U36: 225 | V36: 225 | W36: 250 | X36: 200 | Y36: 100 | Z36: 75 | AA36: 35 | AB36: 18 | AC36: =SUM(I36:AB36) -> 3603 | AD36: =F36-AC36 -> 0
A37: Grange Farm 1901341OUT and various REMS | D37: No REM submitted by 31 March 2026. At least five housebuilders are expected to work on site with reserved matters to be submitted. Deferred by two years. | E37: 0 | F37: 1500 | H37: =SUM(K37:O37) -> 370 | I37: 0 | J37: 0 | K37: 20 | L37: 50 | M37: 100 | N37: 100 | O37: 100 | P37: 120 | Q37: 150 | R37: 150 | S37: 150 | T37: 150 | U37: 125 | V37: 125 | W37: 75 | X37: 75 | Y37: 10 | Z37: 0 | AA37: 0 | AB37: 0 | AC37: =SUM(K37:AB37) -> 1500 | AD37: =F37-AC37 -> 0
A38: Local Plan Allocation HU1 - Ermine Street (South) Outline - 18/01918/OUT | B38: Ermine Street | C38: 85 | D38: Ermine Street (South) - greenfield. Outline application (18/01918/OUT) for a mixed use development including 1,000 dwellings was approved in September 2024. Agent in previous surveys has highlighted issues with CCC Highways regarding improvements to A141. One housebuilder currently on site (Bloor Homes). Reserved Matters applications 25/00704/REM, 25/00713/REM, 25/00727/REM and 25/00728/REM are approved. Agent considered to reduce the number to 900. | E38: 0 | F38: 1000 | H38: =SUM(K38:O38) -> 264 | I38: 0 | J38: 0 | K38: 4 | L38: 65 | M38: 65 | N38: 65 | O38: 65 | P38: 65 | Q38: 65 | R38: 65 | S38: 65 | T38: 65 | U38: 65 | V38: 65 | W38: 65 | X38: 65 | Y38: 65 | Z38: 65 | AA38: 21 | AB38: 0 | AC38: =SUM(I38:AB38) -> 1000 | AD38: =F38-AC38 -> 0
A39: Local Plan Allocation HU1 - Ermine Street (North) Planning application submitted 20/00847/OUT | D39: Ermine Street (North) - greenfield. Outline application 20/00847/OUT submitted in May 2020 for 648 dwellings is pending consideration. Two housebuilders are expected to be involved with delivering the site. Agent anticipates build out over 7 years completing in 2032/33. Deferred three years. | E39: 0 | F39: 648 | H39: =SUM(K39:O39) -> 173 | I39: 0 | J39: 0 | K39: 0 | L39: 0 | M39: 0 | N39: 78 | O39: 95 | P39: 95 | Q39: 95 | R39: 95 | S39: 95 | T39: 95 | U39: 0 | V39: 0 | W39: 0 | X39: 0 | Y39: 0 | Z39: 0 | AA39: 0 | AB39: 0 | AC39: =SUM(I39:AB39) -> 648 | AD39: =F39-AC39 -> 0
A40: HU5 Existing Planning Permissions - Local Plan Allocations Full 20/02613/FUL | B40: Edison Bell Way | C40: 3 | D40: Brownfield. Revised application was permitted for 178 dwellings (20/02613/FUL). Site well advanced. Estimated. | E40: 62 | F40: 116 | G40: =SUM(E40+AC40) -> 178 | H40: =SUM(K40:O40) -> 0 | I40: 80 | J40: 36 | K40: 0 | L40: 0 | M40: 0 | N40: 0 | O40: 0 | P40: 0 | Q40: 0 | R40: 0 | S40: 0 | T40: 0 | U40: 0 | V40: 0 | W40: 0 | X40: 0 | Y40: 0 | Z40: 0 | AA40: 0 | AB40: 0 | AC40: =SUM(I40:AB40) -> 116 | AD40: 0
A41: HU11 Existing Planning Permissions - Local Plan Allocations 15/02016/FUL and 19/00028/FUL (19/00029/LBC) | B41: Parcels F and G Brampton Park (formerly RAF Brampton) | C41: 4 | D41: Brownfield. Site progressing well with final units under construction. Estimated. | E41: 17 | F41: 13 | G41: =SUM(E41+AC41) -> 30 | H41: =SUM(K41:O41) -> 0 | I41: 13 | J41: 0 | K41: 0 | L41: 0 | M41: 0 | N41: 0 | O41: 0 | P41: 0 | Q41: 0 | R41: 0 | S41: 0 | T41: 0 | U41: 0 | V41: 0 | W41: 0 | X41: 0 | Y41: 0 | Z41: 0 | AA41: 0 | AB41: 0 | AC41: =SUM(I41:AB41) -> 13 | AD41: 0
A42: SEL 2 Local Plan Allocations with Planning Permission Local Plan Allocation SEL2 Loves Farm East Outline 13/00388/OUT | B42: St Neots East Loves Farm (1300388OUT)/ | C42: 131.1 | D42: Morris Homes have reserved matters 26/00402/REM approved on August 2026. Multiple REMs for infrastructure approved and delivery started. Minor amendment made to give more cautious start. | E42: 0 | F42: 1020 | G42: =SUM(E42+AC42) -> 1020 | H42: =SUM(K42:O42) -> 680 | I42: 0 | J42: 40 | K42: 80 | L42: 120 | M42: 160 | N42: 160 | O42: 160 | P42: 160 | Q42: 100 | R42: 40 | S42: 0 | T42: 0 | U42: 0 | V42: 0 | W42: 0 | X42: 0 | Y42: 0 | Z42: 0 | AA42: 0 | AB42: 0 | AC42: =SUM(I42:AB42) -> 1020 | AD42: 0
A43: Wintringham Park Outline 17/02308/OUT Reserved Matters 18/02708/REM 18/02719/REM 20/01507/REM 21/01674/REM 22/00305/REM 22/01003/REM | B43: Wintringham Park (17/2308/OUT) | D43: Wintringham Park - greenfield. A hybrid planning application has been approved (17/2308/OUT) in November 2018 for up to 2,800 dwellings as part of a mixed use development. Several reserved matters relating to landscaping and housing have been approved and have commenced. 9 housebuilders currently involved, more than 10 are expected to be involved over the project: Barratt David Wilson, Stonebond, Cala Homes, Morris Homes, Cross Keys Homes, BPHA, Orbit Homes, Keepmoat Homes, Lodge Park Homes. Site is progressing well. As at the 31 March 2025, there were 244 dwellings under construction with a further 177 with reserved matters approval. Keepmoat submitted 26/00717/REM for 147 dwellings on April 2026. This is the first parcel in key stage 2. Amendments have been made to reflect completions. | E43: 1230 | F43: 1570 | G43: =SUM(E43+AC43) -> 2800 | H43: =SUM(K43:O43) -> 1120 | I43: 134 | J43: 150 | K43: 240 | L43: 240 | M43: 240 | N43: 200 | O43: 200 | P43: 110 | Q43: 56 | R43: 0 | S43: 0 | T43: 0 | U43: 0 | V43: 0 | W43: 0 | X43: 0 | Y43: 0 | Z43: 0 | AA43: 0 | AB43: 0 | AC43: =SUM(I43:AB43) -> 1570
A44: SN1 Existing Planning Permissions - Local Plan Allocations Full 0900411FUL and 0900412LBC, 1301969FUL, 17/01446/FUL, 21/02603/FUL, 18/00497/FUL, 21/01940/FUL, 23/00609/FUL, 22/01803/FUL | B44: St Mary's Urban Village, St Neots | C44: 0.9 | D44: Brownfield. This site has come forward in several applications totalling 48 dwellings on site. 25/01954/LBC submitted in August 2025 to convert Ibetts Yard to 5 dwellings was consented on 6 March 2026. Estimated. | E44: 43 | F44: 5 | G44: =SUM(E44+F44) -> 48 | H44: =SUM(K44:O44) -> 5 | I44: 0 | J44: 0 | K44: 5 | L44: 0 | M44: 0 | N44: 0 | O44: 0 | P44: 0 | Q44: 0 | R44: 0 | S44: 0 | T44: 0 | U44: 0 | V44: 0 | W44: 0 | X44: 0 | Y44: 0 | Z44: 0 | AA44: 0 | AB44: 0 | AC44: =SUM(I44:AB44) -> 5 | AD44: 0
A45: SN3 Existing Planning Permissions - Local Plan Allocations Outline 20/00896/OUT / 24/01539/REM and 24/02385/REM | B45: Cromwell Road North, St Neots | C45: 2.6 | D45: Mixed green/brownfield. Outline application for 83 dwelling was approved in December 2021 (20/00896/OUT). 24/01539/REM was approved in May 2025. Site now is being developed by Accent Housing for 80 affordable property. Site started May 2026. Estimated. | E45: 0 | F45: 80 | G45: =SUM(E45+AC45) -> 80 | H45: =SUM(K45:O45) -> 40 | I45: 0 | J45: 40 | K45: 40 | L45: 0 | M45: 0 | N45: 0 | O45: 0 | P45: 0 | Q45: 0 | R45: 0 | S45: 0 | T45: 0 | U45: 0 | V45: 0 | W45: 0 | X45: 0 | Y45: 0 | Z45: 0 | AA45: 0 | AB45: 0 | AC45: =SUM(I45:AB45) -> 80 | AD45: 0
A46: SI1 Existing Planning Permissions - Local Plan Allocations Outline 1402210OUT Reserved Matters 19/01180/REM | B46: St Ives West - Houghton Grange, St Ives | C46: 10.4 | D46: Brownfield. A reserved matters application (19/01180/REM) for net 99 dwellings was submitted by Morris Homes was approved in July 2020. Site nearing completion. Estimated. | E46: 81 | F46: 18 | G46: =SUM(E46+AC46) -> 99 | H46: =SUM(K46:O46) -> 0 | I46: 18 | J46: 0 | K46: 0 | L46: 0 | M46: 0 | N46: 0 | O46: 0 | P46: 0 | Q46: 0 | R46: 0 | S46: 0 | T46: 0 | U46: 0 | V46: 0 | W46: 0 | X46: 0 | Y46: 0 | Z46: 0 | AA46: 0 | AB46: 0 | AC46: =SUM(I46:AB46) -> 18 | AD46: 0
A47: SI1 Local Plan Allocations without Planning Permission | B47: St Ives West - Land Between Houghton Grange & The How | C47: 18.7 | D47: Greenfield. Outline application (23/00627/OUT) for 120 dwelling granted 1st April 2026. Subject to Homes England securing a development partner, the developer expects submission of a reserved matters application in November 2027. Deferred by one year. | E47: 0 | F47: 120 | G47: =SUM(E47+AC47) -> 120 | H47: =SUM(K47:O47) -> 91 | I47: 0 | J47: 0 | K47: 0 | L47: 0 | M47: 30 | N47: 31 | O47: 30 | P47: 29 | Q47: 0 | R47: 0 | S47: 0 | T47: 0 | U47: 0 | V47: 0 | W47: 0 | X47: 0 | Y47: 0 | Z47: 0 | AA47: 0 | AB47: 0 | AC47: =SUM(I47:AB47) -> 120 | AD47: 0
A48: RA7 Existing Planning Permissions - Local Plan Allocations Outline 20/00863/OUT Reserved Matters 22/01946/REM | B48: East of Valiant Square, Bury | C48: 3.6 | D48: Greenfield. Outline application (20/00863/OUT) for 87 was approved in July 2021. Reserved matters (22/01946/REM) approved in June 2024. Burmor Construction Limited and Building for Stonewater are the housebuilder involved in developing this site. The scheme is for solely affordable housing. Site commenced June 2026. | E48: 0 | F48: 87 | G48: =SUM(E48+AC48) -> 87 | H48: =SUM(K48:O48) -> 63 | I48: 0 | J48: 24 | K48: 63 | L48: 0 | M48: 0 | N48: 0 | O48: 0 | P48: 0 | Q48: 0 | R48: 0 | S48: 0 | T48: 0 | U48: 0 | V48: 0 | W48: 0 | X48: 0 | Y48: 0 | Z48: 0 | AA48: 0 | AB48: 0 | AC48: =SUM(I48:AB48) -> 87 | AD48: 0
A49: RA8 Existing Planning Permissions - Local Plan Allocations Outline 1201274OUT Reserved Maters 20/00161/REM | B49: RAF Upwood & Upwood Hill House | C49: 14.5 | D49: Brownfield. A reserved matters (20/00161/REM) for phase one (1201274OUT for 160 dwellings) was approved in September 2020 for the southern part of the site. Countryside Properties Ltd is the housebuilder for the site, with Hyde New Build as the beneficiary. All 160 dwellings are to be affordable. 90 built and other units are under construction. Trajectory response amended to reflect number under construction. | E49: 90 | F49: 70 | G49: =SUM(E49+AC49) -> 160 | H49: =SUM(K49:O49) -> 0 | I49: 40 | J49: 30 | K49: 0 | L49: 0 | M49: 0 | N49: 0 | O49: 0 | P49: 0 | Q49: 0 | R49: 0 | S49: 0 | T49: 0 | U49: 0 | V49: 0 | W49: 0 | X49: 0 | Y49: 0 | Z49: 0 | AA49: 0 | AB49: 0 | AC49: =SUM(I49:AB49) -> 70 | AD49: 0
A50: RA8 Local Plan Allocations without Planning Permission | B50: RAF Upwood & Upwood Hill House | C50: 10.5 | D50: Brownfield. A Full application (21/00572/FUL) for 317on phase two was submitted in March 2021. The application is approaching completion subjects to resolution of final highway issues. With the approval of 160 dwellings under 20/00161/REM, this application would bring the site capacity up to 477. Estimated. | E50: 0 | F50: 317 | G50: =SUM(E50+AC50) -> 317 | H50: =SUM(K50:O50) -> 227 | K50: 27 | L50: 50 | M50: 50 | N50: 50 | O50: 50 | P50: 50 | Q50: 40 | R50: 0 | S50: 0 | T50: 0 | U50: 0 | V50: 0 | W50: 0 | X50: 0 | Y50: 0 | Z50: 0 | AA50: 0 | AB50: 0 | AC50: =SUM(I50:AB50) -> 317 | AD50: 0
A51: BU1 Existing Planning Permissions - Local Plan Allocations Outline 18/02753/OUT | B51: East of Silver Street and South of A1, Buckden | C51: 14.8 | D51: Greenfield. An outline application (18/02753/OUT) application was approved in August 2022. Reserved matters submitted in May 2026 (26/00956/REM). Morris Homes are the housebuilders for this site. Deferred by one year. | E51: 0 | F51: 290 | G51: =SUM(E51+AC51) -> 290 | H51: =SUM(K51:O51) -> 220 | I51: 0 | J51: 0 | K51: 20 | L51: 50 | M51: 50 | N51: 50 | O51: 50 | P51: 50 | Q51: 20 | R51: 0 | S51: 0 | T51: 0 | U51: 0 | V51: 0 | W51: 0 | X51: 0 | Y51: 0 | Z51: 0 | AA51: 0 | AB51: 0 | AC51: =SUM(I51:AB51) -> 290 | AD51: 0
A52: FS3 Existing Planning Permissions - Local Plan Allocations Outline 20/02128/OUT | B52: Cambridge Road, Fenstanton - East | C52: 2.4 | D52: Greenfield. Outline planning application (20/02128/OUT) for 39 dwellings was permitted in September 2022. 25/01668/REM submitted in September 2025. | E52: 0 | F52: 39 | G52: =SUM(E52+AC52) -> 39 | H52: =SUM(K52:O52) -> 39 | I52: 0 | J52: 0 | K52: 0 | L52: 19 | M52: 20 | N52: 0 | O52: 0 | P52: 0 | Q52: 0 | R52: 0 | S52: 0 | T52: 0 | U52: 0 | V52: 0 | W52: 0 | X52: 0 | Y52: 0 | Z52: 0 | AA52: 0 | AB52: 0 | AC52: =SUM(I52:AB52) -> 39 | AD52: 0
A53: KB2 Local Plan Allocations without Planning Permission | B53: North of Station Road/Stow Road, Kimbolton | C53: 2.5 | D53: Greenfield. 25/01029/FUL for 65 dwellings was received in June 2025 and it has DMC approval in December 2025. It now waiting on the agent to finalise the S106 and there are also ongoing investigations/discussions with Anglian Water around the foul drainage scheme which can be dealt with by condition. DN is expected to be issued soon. | E53: 0 | F53: 65 | G53: =SUM(E53+AC53) -> 65 | H53: =SUM(K53:O53) -> 65 | I53: 0 | J53: 0 | K53: 0 | L53: 30 | M53: 35 | N53: 0 | O53: 0 | P53: 0 | Q53: 0 | R53: 0 | S53: 0 | T53: 0 | U53: 0 | V53: 0 | W53: 0 | X53: 0 | Y53: 0 | Z53: 0 | AA53: 0 | AB53: 0 | AC53: =SUM(I53:AB53) -> 65 | AD53: 0
...

Sheet Housing trajectory summary
A1: Housing trajectory summary table
B4: COMPLETIONS | G4: PROJECTED COMPLETIONS
F5: STEP 1 | K5: STEP 2 | P5: STEP 3
E6: * | I6: Yr 1 | J6: Yr 2 | K6: Yr 3 | L6: Yr 4 | M6: Yr 5 | N6: Yr 6 | O6: Yr 7 | P6: Yr 8 | Q6: Yr 9 | R6: Yr 10 | S6: Yr 11 | T6: Yr 12 | U6: Yr 13 | V6: Yr 14 | W6: Yr 15 | X6: Yr 16 | Y6: Yr 17 | Z6: Yr 18
B7: 2021/22 | C7: 2022/23 | D7: 2023/24 | E7: 2024/25 | F7: 2025/26 | G7: 2026/27 | H7: 2027/28 | I7: 2028/29 | J7: 2029/30 | K7: 2030/31 | L7: 2031/32 | M7: 2032/33 | N7: 2033/34 | O7: 2034/35 | P7: 2035/36 | Q7: 2036/37 | R7: 2037/38 | S7: 2038/39 | T7: 2039/40 | U7: 2040/41 | V7: 2041/42 | W7: 2042/43 | X7: 2043/44 | Y7: 2044/45 | Z7: 2045/46
A8: Homes completed and forecast to completed (net) | B8: 1049 | C8: 1250 | D8: 1265 | E8: 855 | F8: 1008 | G8: ='Local Plan housing trajectory'!I130 -> 757 | H8: ='Local Plan housing trajectory'!J130 -> 941 | I8: ='Local Plan housing trajectory'!K130 -> 1220 | J8: ='Local Plan housing trajectory'!L130 -> 1424 | K8: ='Local Plan housing trajectory'!M130 -> 1515 | L8: ='Local Plan housing trajectory'!N130 -> 1433 | M8: ='Local Plan housing trajectory'!O130 -> 1494 | N8: ='Local Plan housing trajectory'!P130 -> 1656 | ... Z8: ='Local Plan housing trajectory'!AB130 -> 1033
A9: Cumulative completions and forecast completions (net) | B9: =B8 -> 1049 | C9: =B9+C8 -> 2299 | D9: =C9+D8 -> 3564 | E9: =D9+E8 -> 4419 | F9: =E9+F8 -> 5427 | G9: =F9+G8 -> 6184 | H9: =G9+H8 -> 7125 | I9: =H9+I8 -> 8345 | J9: =I9+J8 -> 9769 | ... Z9: =Y9+Z8 -> 34451
A10: Annual homes target | F10: 1050 | G10: 1050 | H10: 1050 | I10: 1050 | J10: 1050 | K10: 1250 | L10: 1250 | M10: 1250 | N10: 1250 | O10: 1250 | P10: 1482 | Q10: 1482 | R10: 1482 | S10: 1482 | T10: 1482 | U10: 1482 | V10: 1482 | W10: 1482 | X10: 1482 | Y10: 1482 | Z10: 1482
A11: * Note: the government's published completions figure by 2024/25 is 4,402 so this figure has been used in the 5 year housing land supply figure set out in Appendix 7 of the Pre-Submission Huntingdonshire Local Plan to 2046.
