Workbook

Sheet Document Information
A1: This document presents the housing trajectory for Huntingdonshire's Pre-Submission Local Plan to 2046
A3: There are two information tabs
A5: Tab 1 - Local Plan Housing Trajectory
A6: This tab sets out the the number of homes expected to be built over the local plan period to 2046
A7: The information is drawn from questionnaires which were sent to developers and land owners of sites to find out when they expect to build homes on their sites.
A8: We have looked at the replies from developers and land owners and where we think they are over-optimistic we have amended them - you can find this in the notes in column D.
A10: This table gives a description of each column in tab 1 - Local Plan housing trajectory.
A12: Column A | B12: Status / site reference | C12: This identifies whether the site has planning permission, gives any planning application reference number or the name of the site if it is allocated in Huntingdonshire's Local Plan to 2036 or if it is a proposed allocation in the Pre-submission Local Plan. It also identifies groups of sites such as rural exceptions sites.
A13: Column B | B13: Name and address of site | C13: This shows where the site is.
A14: Column C | B14: Site area in hectares (ha) | C14: This shows how big the site is in hectares.
A15: Column D | B15: Notes | C15: These explain the type of site, progress with planning applications or building. It notes any amendments to the developer or land owners anticipated delivery trajectory.
A16: Column E | B16: Homes built (net) | C16: The number of homes already completed on the site.
A17: Column F | B17: Homes remaining (net) | C17: The number of homes still expected to be built on the site.
A18: Column G | B18: Total no. of homes by 2046 | C18: The number of homes expected tobe built by 2046 (this may not be all the homes expected on the site).
A19: Column H | B19: Number of homes in 5YHLS | C19: The number of homes expected to be built within the first 5 years after the expected adoption date of the plan (2028).
A20: Columns I to AB | B20: Years | C20: Each column shows the number of homes expected to be built within that year.
A21: Column AC | B21: Total 2026 - 2046 | C21: The total number of homes expected to be built on each site between 2026 and 2046.
A22: Column AD | B22: Total after 2046 | C22: The total number of homes expected to be built on each site after 2046.
A24: As you scroll through the spreadsheet the sites are grouped under the following headings:
A26: Existing planning permissions - unallocated sites | C26: These are sites which already have planning permission.
A27: Local plan to 2036 allocations | C27: These are sites which are allocated in the adopted local plan to 2036.
A28: Other commitments: subject to S106 | C28: These are sites which the council have agreed to approve but are waiting for a legal agreement to be finalised.
A29: Other sources: prior approval conversions to C3 residential use under GDPO | C29: These are sites where the principle of conversion of a building to a home was allowed under national regulations but details needed approving by the council.
A30: Windfall and rural exception sites | C30: These are sites which are expected to come forward in the plan period but may not have permission yet. These figures are worked out using past building trends.
A31: Pre-submission allocations in local plan to 2046 | C31: These are sites which are included in the Pre-submission local plan which include new homes.
A33: Tab 2 - Housing trajectory summary
A34: This tab provides a summary table that includes the number of homes completed and forecast to be completed by year throughout the plan period.
A35: It also includes a running total of the number of homes completed and forecast to be completed by year throughout the plan period.
A36: It provides the target annual number of homes that the local plan aims to achieve.
A37: It includes a graph showing the number of homes completed and forecast to be completed by year throughout the plan period against the target.

Sheet Local Plan housing trajectory
A1: Pre-Submission Local Plan Housing Trajectory
K3: Five Year Supply Period
A4: Status / Site reference as at 31/03/2026 | B4: Name and address of site | C4: Site area (ha) | D4: Notes | E4: Homes built (net) | F4: Homes remaining (net) | G4: Total no. homes by 2046 | H4: Number of homes in 5YHLS | I4: 2026/27 | J4: 2027/28 | K4: 2028/29 Yr 1 | L4: 2029/30 Yr 2 | M4: 2030/31 Yr 3 | N4: 2031/32 Yr 4 | O4: 3032/33 Yr 5 | P4: 2033/34 Yr 6 | Q4: 2034/35 Yr 7 | R4: 2035/36 Yr 8 | S4: 2036/37 Yr 9 | T4: 2037/38 Yr 10 | U4: 2038/39 Yr 11 | V4: 2039/40 Yr 12 | W4: 2040/41 Yr 13 | X4: 2041/42 Yr 14 | Y4: 2042/43 Yr 15 | Z4: 2043/44 Yr 16 | AA4: 2044/45 Yr 17 | AB4: 2045/46 Yr 18 | AC4: Total 2026-2046 | AD4: Total after 2046
A5: Existing Planning Permissions - Unallocated sites
A6: Reserved Matters 0301597REM | B6: The Old Granary, Gidding Rd, Sawtry | C6: 0.6 | D6: Brownfield. Rough foundations in place so material start has been implemented some years ago. A revised surface water drainage strategy for the site has been resolved with the Middle Level Commissioners. There are some legal matters being addressed on site which are with solicitors now. | E6: 0 | F6: 10 | G6: =SUM(E6+AC6) -> 10 | H6: =SUM(K6:O6) -> 10 | I6: 0 | J6: 0 | K6: 10 | L6: 0 | M6: 0 | N6: 0 | O6: 0 | P6: 0 | Q6: 0 | R6: 0 | S6: 0 | T6: 0 | U6: 0 | V6: 0 | W6: 0 | X6: 0 | Y6: 0 | Z6: 0 | AA6: 0 | AB6: 0 | AC6: =SUM(I6:AB6) -> 10 | AD6: 0
A7: Full 18/00212/FUL | B7: Former British Red Cross Society, Huntingdon | C7: 0.16 | D7: Brownfield. Units (7 apartments and 3 houses) under construction as at 31 March 2026. Have completed since. | E7: 0 | F7: 10 | G7: =SUM(E7+AC7) -> 10 | H7: =SUM(K7:O7) -> 0 | I7: 10 | J7: 0 | K7: 0 | L7: 0 | M7: 0 | N7: 0 | O7: 0 | P7: 0 | Q7: 0 | R7: 0 | S7: 0 | T7: 0 | U7: 0 | V7: 0 | W7: 0 | X7: 0 | Y7: 0 | Z7: 0 | AA7: 0 | AB7: 0 | AC7: =SUM(I7:AB7) -> 10 | AD7: 0
A8: Outline 17/00101/OUT Reserved Matters 20/00923/REM | B8: D J C Produce, Pingle Bank, Holme | C8: 0.99 | D8: Brownfield. Outline application was approved in May 2019. Reserved matters application (20/00923/REM) was approved in February 2023. Under construction April 2026. | E8: 0 | F8: 25 | G8: =SUM(E8+AC8) -> 25 | H8: =SUM(K8:O8) -> 0 | I8: 0 | J8: 25 | K8: 0 | L8: 0 | M8: 0 | N8: 0 | O8: 0 | P8: 0 | Q8: 0 | R8: 0 | S8: 0 | T8: 0 | U8: 0 | V8: 0 | W8: 0 | X8: 0 | Y8: 0 | Z8: 0 | AA8: 0 | AB8: 0 | AC8: =SUM(I8:AB8) -> 25 | AD8: 0
A9: Outline 18/01073/OUT Reserved Matters 21/01723/REM | B9: Land Rear Of 92 To 108 High Street, Needingworth | C9: 4.6 | D9: Greenfield. 21/01723/REM was approved in February 2022. Remains extant through approval of 24/00365/CLPD. Sites is solely for all affordable homes with Cross Keys Homes delivering the site. They are awaiting a Homes England grant via the Affordable Homes Programme to ensure the viability of the site. Deferred by one year as waiting grant. | E9: 0 | F9: 45 | G9: =SUM(E9+AC9) -> 45 | H9: =SUM(K9:O9) -> 45 | I9: 0 | J9: 0 | K9: 20 | L9: 25 | M9: 0 | N9: 0 | O9: 0 | P9: 0 | Q9: 0 | R9: 0 | S9: 0 | T9: 0 | U9: 0 | V9: 0 | W9: 0 | X9: 0 | Y9: 0 | Z9: 0 | AA9: 0 | AB9: 0 | AC9: =SUM(I9:AB9) -> 45 | AD9: 0
A10: Outline 18/02192/OUT Reserved Matters 21/01808/REM | B10: Land West Of 26 To 34 High Street, Stilton | C10: 4.25 | D10: Greenfield. The site was approved in May 2019. Remains extant through 24/00529/CLPD. The site has been sold to Cross Keys Homes. 21/01808/REM approved in March 2022. Viability of the site will require Homes England Grant. Split over two years. | E10: 0 | F10: 70 | G10: =SUM(E10+AC10) -> 70 | H10: =SUM(K10:O10) -> 0 | I10: 20 | J10: 50 | K10: 0 | L10: 0 | M10: 0 | N10: 0 | O10: 0 | P10: 0 | Q10: 0 | R10: 0 | S10: 0 | T10: 0 | U10: 0 | V10: 0 | W10: 0 | X10: 0 | Y10: 0 | Z10: 0 | AA10: 0 | AB10: 0 | AC10: =SUM(I10:AB10) -> 70 | AD10: 0
A11: Outline 21/01810/OUT | B11: Land West Of 26 To 34 High Street, Stilton | C11: 2.05 | D11: Greenfield. Outline for 16 dwellings and associated Infrastructure works and access. Decision notice sent out in February 2026. One housebuilder involved (Seagate). Cross Keys Homes expected to submit a reserve matters planning application by the end of 2026. Viability of site will require Homes England grant. | E11: 0 | F11: 16 | G11: =SUM(E11+AC11) -> 16 | H11: =SUM(K11:O11) -> 16 | I11: 0 | J11: 0 | K11: 0 | L11: 16 | M11: 0 | N11: 0 | O11: 0 | P11: 0 | Q11: 0 | R11: 0 | S11: 0 | T11: 0 | U11: 0 | V11: 0 | W11: 0 | X11: 0 | Y11: 0 | Z11: 0 | AA11: 0 | AB11: 0 | AC11: =SUM(I11:AB11) -> 16 | AD11: 0
A12: Outline 22/01926/OUT | B12: Land At Fenton Fields Farm, Bencroft Lane, Warboys | C12: 0.59 | D12: Greenfield. 22/01926/OUT was approved May 2023. Access has been secured from the adjacent WB4 (South of Farrier's Way) which is now complete. Reserved matters submitted by March 2026 (26/00483/REM). Estimated. | E12: 0 | F12: 10 | G12: =SUM(E12+AC12) -> 10 | H12: =SUM(K12:O12) -> 10 | I12: 0 | J12: 0 | K12: 5 | L12: 5 | M12: 0 | N12: 0 | O12: 0 | P12: 0 | Q12: 0 | R12: 0 | S12: 0 | T12: 0 | U12: 0 | V12: 0 | W12: 0 | X12: 0 | Y12: 0 | Z12: 0 | AA12: 0 | AB12: 0 | AC12: =SUM(I12:AB12) -> 10 | AD12: 0
A13: Full 20/00285/FUL | B13: F Vindis And Sons Ltd, Low Road, Fenstanton | C13: 2.76 | D13: Brownfield. Full application for 94 dwellings approved in March 2022. Now solely an affordable housing scheme following purchase by Settle Housing Association and qualifying from funding from Homes England. All units under construction with a high proportion of flats. Estimated | E13: 0 | F13: 94 | G13: =SUM(E13+AC13) -> 94 | H13: =SUM(K13:O13) -> 0 | I13: 94 | J13: 0 | K13: 0 | L13: 0 | M13: 0 | N13: 0 | O13: 0 | P13: 0 | Q13: 0 | R13: 0 | S13: 0 | T13: 0 | U13: 0 | V13: 0 | W13: 0 | X13: 0 | Y13: 0 | Z13: 0 | AA13: 0 | AB13: 0 | AC13: =SUM(I13:AB13) -> 94 | AD13: 0
A14: Outline 19/00038/OUT Reserved Matters 21/01043/REM | B14: Meadow View Farm, Thrapston Road Brampton | C14: 2.23 | D14: Greenfield. Outline permission granted in April 2021 for 30 dwellings. 21/01043/REM for the 30 dwellings was approved in June 2022. Conditions being discharged and the removal of telecommunications infrastructure on site being explored. 1 dwelling demolished shown on county completions records 2024/25. 24/00767/CLPD approved for the construction of 30 dwellings. Estimated. | E14: 0 | F14: 30 | G14: =SUM(E14+AC14) -> 30 | H14: =SUM(K14:O14) -> 0 | I14: 0 | J14: 0 | K14: 0 | L14: 0 | M14: 0 | N14: 0 | O14: 0 | P14: 15 | Q14: 15 | R14: 0 | S14: 0 | T14: 0 | U14: 0 | V14: 0 | W14: 0 | X14: 0 | Y14: 0 | Z14: 0 | AA14: 0 | AB14: 0 | AC14: =SUM(I14:AB14) -> 30 | AD14: 0
A15: Outline 20/01407/OUT Reserved Matters 22/01080/REM | B15: Land North of Shawley Road and West of Glatton Road, Sawtry | C15: 34.25 | D15: Greenfield. Up to 340 dwellings permitted in November 2021 under 20/01407/OUT. 22/01080/REM was approved in October 2024. Two housebuilders are currently involved with delivering the scheme. Site under constructions. Response from Allison Homes and Taylor Wimpey (remaining 202) estimated. | E15: 0 | F15: 340 | G15: =SUM(E15+AC15) -> 340 | H15: =SUM(K15:O15) -> 206 | I15: 38 | J15: 56 | K15: 44 | L15: 42 | M15: 40 | N15: 40 | O15: 40 | P15: 40 | Q15: 0 | R15: 0 | S15: 0 | T15: 0 | U15: 0 | V15: 0 | W15: 0 | X15: 0 | Y15: 0 | Z15: 0 | AA15: 0 | AB15: 0 | AC15: =SUM(I15:AB15) -> 340 | AD15: 0
A16: Full 22/01439/FUL | B16: 11 - 12 The Pavement, St Ives | C16: 0.05 | D16: Brownfield. 22/01439/FUL was approved in December 2022 for the demolition and construction of three-storey building to provide10 self-contained units. One house builder involved. Under construction. Estimated | E16: 0 | F16: 10 | G16: =SUM(E16+AC16) -> 10 | H16: =SUM(K16:O16) -> 0 | I16: 0 | J16: 10 | K16: 0 | L16: 0 | M16: 0 | N16: 0 | O16: 0 | P16: 0 | Q16: 0 | R16: 0 | S16: 0 | T16: 0 | U16: 0 | V16: 0 | W16: 0 | X16: 0 | Y16: 0 | Z16: 0 | AA16: 0 | AB16: 0 | AC16: =SUM(I16:AB16) -> 10 | AD16: 0
A17: Full 18/02726/FUL | B17: Former Car Showroom, London Road, St Ives | C17: 1.53 | D17: Brownfield. Residential development of 49 dwellings following demolition of existing buildings on site. Approved in April 2022 and implemented. Notice for a full structural demolition of the existing buildings on site received in September 2024. 25/00385/CLED confirmed the lawful implementation of 18/02726/FUL. Viability challenging. Estimated. | E17: 0 | F17: 49 | G17: =SUM(E17+AC17) -> 49 | H17: =SUM(K17:O17) -> 24 | I17: 0 | J17: 0 | K17: 0 | L17: 0 | M17: 0 | N17: 0 | O17: 24 | P17: 25 | Q17: 0 | R17: 0 | S17: 0 | T17: 0 | U17: 0 | V17: 0 | W17: 0 | X17: 0 | Y17: 0 | Z17: 0 | AA17: 0 | AB17: 0 | AC17: =SUM(I17:AB17) -> 49 | AD17: 0
... A29: Full 24/01827/HDC | B29: Hotel 10-14 Market Square, St Neots | C29: 0.1 | D29: Brownfield. Total creation of 14 dwellings. The proposal requires the loss of two dwellings, there is a therefore a net gain of 12 dwellings which has been reflected in the trajectory. Approved December 2025. Estimated. | E29: 0 | F29: 12 | G29: =SUM(E29+AC29) -> 12 | H29: =SUM(K29:O29) -> 12 | I29: 0 | J29: 0 | K29: 0 | L29: 0 | M29: 12 | N29: 0 | O29: 0 | P29: 0 | Q29: 0 | R29: 0 | S29: 0 | T29: 0 | U29: 0 | V29: 0 | W29: 0 | X29: 0 | Y29: 0 | Z29: 0 | AA29: 0 | AB29: 0 | AC29: =SUM(I29:AB29) -> 12 | AD29: 0
A30: Total of small sites Full, Reserved Matters or Technical Details Consent under construction | B30: n/a | C30: n/a | D30: No discount applied as sites which are already started are expected to be delivered. | E30: n/a | F30: 101 | G30: 101 | H30: =SUM(K30:O30) -> 0 | I30: 51 | J30: 50 | K30: 0 | L30: 0 | M30: 0 | N30: 0 | O30: 0 | P30: 0 | Q30: 0 | R30: 0 | S30: 0 | T30: 0 | U30: 0 | V30: 0 | W30: 0 | X30: 0 | Y30: 0 | Z30: 0 | AA30: 0 | AB30: 0 | AC30: =SUM(I30:AB30) -> 101 | AD30: 0
A31: Total of small sites Full, Reserved Matters or Technical Details Consent not started at 31/03/26 | B31: n/a | C31: n/a | D31: A 10% discount has been applied to the total of sites not yet started to allow for some sites which may not be developed. | E31: n/a | F31: 215 | G31: 215 | H31: =SUM(K31:O31) -> 161 | I31: 0 | J31: 54 | K31: 54 | L31: 54 | M31: 53 | N31: 0 | O31: 0 | P31: 0 | Q31: 0 | R31: 0 | S31: 0 | T31: 0 | U31: 0 | V31: 0 | W31: 0 | X31: 0 | Y31: 0 | Z31: 0 | AA31: 0 | AB31: 0 | AC31: =SUM(I31:AB31) -> 215 | AD31: 0
A32: Total of small sites Outline and Permission in Principle | B32: n/a | C32: n/a | D32: A 10% discount has been applied to the total of sites not yet started to allow for some sites which may not be developed. | E32: n/a | F32: 110 | G32: 110 | H32: =SUM(K32:O32) -> 110 | I32: 0 | J32: 0 | K32: 0 | L32: 33 | M32: 45 | N32: 32 | O32: 0 | P32: 0 | Q32: 0 | R32: 0 | S32: 0 | T32: 0 | U32: 0 | V32: 0 | W32: 0 | X32: 0 | Y32: 0 | Z32: 0 | AA32: 0 | AB32: 0 | AC32: =SUM(I32:AB32) -> 110 | AD32: 0
D33: Subtotal | E33: =SUM(E6:E32) -> 0 | F33: =SUM(F6:F32) -> 1509 | G33: =SUM(G6:G32) -> 1509 | H33: =SUM(I33:K33) -> 753 | I33: =SUM(I6:I32) -> 213 | J33: =SUM(J6:J32) -> 260 | K33: =SUM(K6:K32) -> 280 | L33: =SUM(L6:L32) -> 269 | M33: =SUM(M6:M32) -> 200 | N33: =SUM(N6:N32) -> 128 | O33: =SUM(O6:O32) -> 64 | P33: =SUM(P6:P32) -> 80 | ... AD33: =SUM(AD6:AD32) -> 0
A35: Local Plan to 2036 Allocations
A36: SEL1 and HU1 Existing Planning Permissions - Local Plan Allocations Local Plan Allocation SEL1.1 Alconbury Weald Part Reserved Matters/ Part Outline 1201158OUT, Reserved Matters 15/01117/REM, 16/02013/REM, 16/01329/REM, 17/00802/REM, 18/01536/REM, 18/02223/REM, 21/00283/REM, 21/00764/REM, 21/00804/REM, 21/01548/REM, 21/02675/REM, 23/00271/REM, 23/00695/REM, 21/01548/REM, 17/00079/REM | B36: Alconbury Weald | C36: 575 | D36: Alconbury Weald - brownfield. The site is progressing well with eight or more housebuilders involved (Hopkins Homes, Morris Homes, Redrow Homes, Campbell Buchanan, Crest Nicholson, Lovell Partnership, Barratt David Wilson Homes, Cross Key Homes) and reserved matters applications submitted for residential and commercial development as well as for the delivery of site-wide infrastructure to ensure continued delivery. Development has now moved into phase 3. 155 dwellings are under construction as at 31 March 2025 with a further 665 benefiting from reserved matters approval. The Agent for the site anticipates the capacity of the site to be 6,500. This includes an additional 1,500 homes at Grange Farm for which an outline application was approved in October 2024 (19/01341/OUT). In last years survey, the Agent anticipated completions for Grange Farm to start from 2026/27 onwards. Minor amendment to the final years to reflect the completions. | E36: 1397 | F36: 3603 | G36: =SUM(E36+AC36) -> 5000 | H36: =SUM(K36:O36) -> 1050 | I36: 150 | J36: 250 | K36: 250 | L36: 225 | M36: 225 | N36: 175 | O36: 175 | P36: 200 | Q36: 200 | R36: 200 | S36: 200 | T36: 225 | U36: 225 | V36: 225 | W36: 250 | X36: 200 | Y36: 100 | Z36: 75 | AA36: 35 | AB36: 18 | AC36: =SUM(I36:AB36) -> 3603 | AD36: =F36-AC36 -> 0
A37: Grange Farm 1901341OUT and various REMS | D37: No REM submitted by 31 March 2026. At least five housebuilders are expected to work on site with reserved matters to be submitted. Deferred by two years. | E37: 0 | F37: 1500 | H37: =SUM(K37:O37) -> 370 | I37: 0 | J37: 0 | K37: 20 | L37: 50 | M37: 100 | N37: 100 | O37: 100 | P37: 120 | Q37: 150 | R37: 150 | S37: 150 | T37: 150 | U37: 125 | V37: 125 | W37: 75 | X37: 75 | Y37: 10 | Z37: 0 | AA37: 0 | AB37: 0 | AC37: =SUM(K37:AB37) -> 1500 | AD37: =F37-AC37 -> 0
A38: Local Plan Allocation HU1 - Ermine Street (South) Outline - 18/01918/OUT | B38: Ermine Street | C38: 85 | D38: Ermine Street (South) - greenfield. Outline application (18/01918/OUT) for a mixed use development including 1,000 dwellings was approved in September 2024. Agent in previous surveys has highlighted issues with CCC Highways regarding improvements to A141. One housebuilder currently on site (Bloor Homes). Reserved Matters applications 25/00704/REM, 25/00713/REM, 25/00727/REM and 25/00728/REM are approved. Agent considered to reduce the number to 900. | E38: 0 | F38: 1000 | H38: =SUM(K38:O38) -> 264 | I38: 0 | J38: 0 | K38: 4 | L38: 65 | M38: 65 | N38: 65 | O38: 65 | P38: 65 | Q38: 65 | R38: 65 | S38: 65 | T38: 65 | U38: 65 | V38: 65 | W38: 65 | X38: 65 | Y38: 65 | Z38: 65 | AA38: 21 | AB38: 0 | AC38: =SUM(I38:AB38) -> 1000 | AD38: =F38-AC38 -> 0
A39: Local Plan Allocation HU1 - Ermine Street (North) Planning application submitted 20/00847/OUT | D39: Ermine Street (North) - greenfield. Outline application 20/00847/OUT submitted in May 2020 for 648 dwellings is pending consideration. Two housebuilders are expected to be involved with delivering the site. Agent anticipates build out over 7 years completing in 2032/33. Deferred three years. | E39: 0 | F39: 648 | H39: =SUM(K39:O39) -> 173 | I39: 0 | J39: 0 | K39: 0 | L39: 0 | M39: 0 | N39: 78 | O39: 95 | P39: 95 | Q39: 95 | R39: 95 | S39: 95 | T39: 95 | U39: 0 | V39: 0 | W39: 0 | X39: 0 | Y39: 0 | Z39: 0 | AA39: 0 | AB39: 0 | AC39: =SUM(I39:AB39) -> 648 | AD39: =F39-AC39 -> 0
A40: HU5 Existing Planning Permissions - Local Plan Allocations Full 20/02613/FUL | B40: Edison Bell Way | C40: 3 | D40: Brownfield. Revised application was permitted for 178 dwellings (20/02613/FUL). Site well advanced. Estimated. | E40: 62 | F40: 116 | G40: =SUM(E40+AC40) -> 178 | H40: =SUM(K40:O40) -> 0 | I40: 80 | J40: 36 | K40: 0 | L40: 0 | M40: 0 | N40: 0 | O40: 0 | P40: 0 | Q40: 0 | R40: 0 | S40: 0 | T40: 0 | U40: 0 | V40: 0 | W40: 0 | X40: 0 | Y40: 0 | Z40: 0 | AA40: 0 | AB40: 0 | AC40: =SUM(I40:AB40) -> 116 | AD40: 0
A41: HU11 Existing Planning Permissions - Local Plan Allocations 15/02016/FUL and 19/00028/FUL (19/00029/LBC) | B41: Parcels F and G Brampton Park (formerly RAF Brampton) | C41: 4 | D41: Brownfield. Site progressing well with final units under construction. Estimated. | E41: 17 | F41: 13 | G41: =SUM(E41+AC41) -> 30 | H41: =SUM(K41:O41) -> 0 | I41: 13 | J41: 0 | K41: 0 | L41: 0 | M41: 0 | N41: 0 | O41: 0 | P41: 0 | Q41: 0 | R41: 0 | S41: 0 | T41: 0 | U41: 0 | V41: 0 | W41: 0 | X41: 0 | Y41: 0 | Z41: 0 | AA41: 0 | AB41: 0 | AC41: =SUM(I41:AB41) -> 13 | AD41: 0
A42: SEL 2 Local Plan Allocations with Planning Permission Local Plan Allocation SEL2 Loves Farm East Outline 13/00388/OUT | B42: St Neots East Loves Farm (1300388OUT)/ | C42: 131.1 | D42: Morris Homes have reserved matters 26/00402/REM approved on August 2026. Multiple REMs for infrastructure approved and delivery started. Minor amendment made to give more cautious start. | E42: 0 | F42: 1020 | G42: =SUM(E42+AC42) -> 1020 | H42: =SUM(K42:O42) -> 680 | I42: 0 | J42: 40 | K42: 80 | L42: 120 | M42: 160 | N42: 160 | O42: 160 | P42: 160 | Q42: 100 | R42: 40 | S42: 0 | T42: 0 | U42: 0 | V42: 0 | W42: 0 | X42: 0 | Y42: 0 | Z42: 0 | AA42: 0 | AB42: 0 | AC42: =SUM(I42:AB42) -> 1020 | AD42: 0
A43: Wintringham Park Outline 17/02308/OUT Reserved Matters 18/02708/REM 18/02719/REM 20/01507/REM 21/01674/REM 22/00305/REM 22/01003/REM | B43: Wintringham Park (17/2308/OUT) | D43: Wintringham Park - greenfield. A hybrid planning application has been approved (17/2308/OUT) in November 2018 for up to 2,800 dwellings as part of a mixed use development. Several reserved matters relating to landscaping and housing have been approved and have commenced. 9 housebuilders currently involved, more than 10 are expected to be involved over the project: Barratt David Wilson, Stonebond, Cala Homes, Morris Homes, Cross Keys Homes, BPHA, Orbit Homes, Keepmoat Homes, Lodge Park Homes. Site is progressing well. As at the 31 March 2025, there were 244 dwellings under construction with a further 177 with reserved matters approval. Keepmoat submitted 26/00717/REM for 147 dwellings on April 2026. This is the first parcel in key stage 2. Amendments have been made to reflect completions. | E43: 1230 | F43: 1570 | G43: =SUM(E43+AC43) -> 2800 | H43: =SUM(K43:O43) -> 1120 | I43: 134 | J43: 150 | K43: 240 | L43: 240 | M43: 240 | N43: 200 | O43: 200 | P43: 110 | Q43: 56 | R43: 0 | S43: 0 | T43: 0 | U43: 0 | V43: 0 | W43: 0 | X43: 0 | Y43: 0 | Z43: 0 | AA43: 0 | AB43: 0 | AC43: =SUM(I43:AB43) -> 1570
A44: SN1 Existing Planning Permissions - Local Plan Allocations Full 0900411FUL and 0900412LBC, 1301969FUL, 17/01446/FUL, 21/02603/FUL, 18/00497/FUL, 21/01940/FUL, 23/00609/FUL, 22/01803/FUL | B44: St Mary's Urban Village, St Neots | C44: 0.9 | D44: Brownfield. This site has come forward in several applications totalling 48 dwellings on site. 25/01954/LBC submitted in August 2025 to convert Ibetts Yard to 5 dwellings was consented on 6 March 2026. Estimated. | E44: 43 | F44: 5 | G44: =SUM(E44+F44) -> 48 | H44: =SUM(K44:O44) -> 5 | I44: 0 | J44: 0 | K44: 5 | L44: 0 | M44: 0 | N44: 0 | O44: 0 | P44: 0 | Q44: 0 | R44: 0 | S44: 0 | T44: 0 | U44: 0 | V44: 0 | W44: 0 | X44: 0 | Y44: 0 | Z44: 0 | AA44: 0 | AB44: 0 | AC44: =SUM(I44:AB44) -> 5 | AD44: 0
A45: SN3 Existing Planning Permissions - Local Plan Allocations Outline 20/00896/OUT / 24/01539/REM and 24/02385/REM | B45: Cromwell Road North, St Neots | C45: 2.6 | D45: Mixed green/brownfield. Outline application for 83 dwelling was approved in December 2021 (20/00896/OUT). 24/01539/REM was approved in May 2025. Site now is being developed by Accent Housing for 80 affordable property. Site started May 2026. Estimated. | E45: 0 | F45: 80 | G45: =SUM(E45+AC45) -> 80 | H45: =SUM(K45:O45) -> 40 | I45: 0 | J45: 40 | K45: 40 | L45: 0 | M45: 0 | N45: 0 | O45: 0 | P45: 0 | Q45: 0 | R45: 0 | S45: 0 | T45: 0 | U45: 0 | V45: 0 | W45: 0 | X45: 0 | Y45: 0 | Z45: 0 | AA45: 0 | AB45: 0 | AC45: =SUM(I45:AB45) -> 80 | AD45: 0
A46: SI1 Existing Planning Permissions - Local Plan Allocations Outline 1402210OUT Reserved Matters 19/01180/REM | B46: St Ives West - Houghton Grange, St Ives | C46: 10.4 | D46: Brownfield. A reserved matters application (19/01180/REM) for net 99 dwellings was submitted by Morris Homes was approved in July 2020. Site nearing completion. Estimated. | E46: 81 | F46: 18 | G46: =SUM(E46+AC46) -> 99 | H46: =SUM(K46:O46) -> 0 | I46: 18 | J46: 0 | K46: 0 | L46: 0 | M46: 0 | N46: 0 | O46: 0 | P46: 0 | Q46: 0 | R46: 0 | S46: 0 | T46: 0 | U46: 0 | V46: 0 | W46: 0 | X46: 0 | Y46: 0 | Z46: 0 | AA46: 0 | AB46: 0 | AC46: =SUM(I46:AB46) -> 18 | AD46: 0
A47: SI1 Local Plan Allocations without Planning Permission | B47: St Ives West - Land Between Houghton Grange & The How | C47: 18.7 | D47: Greenfield. Outline application (23/00627/OUT) for 120 dwelling granted 1st April 2026. Subject to Homes England securing a development partner, the developer expects submission of a reserved matters application in November 2027. Deferred by one year. | E47: 0 | F47: 120 | G47: =SUM(E47+AC47) -> 120 | H47: =SUM(K47:O47) -> 91 | I47: 0 | J47: 0 | K47: 0 | L47: 0 | M47: 30 | N47: 31 | O47: 30 | P47: 29 | Q47: 0 | R47: 0 | S47: 0 | T47: 0 | U47: 0 | V47: 0 | W47: 0 | X47: 0 | Y47: 0 | Z47: 0 | AA47: 0 | AB47: 0 | AC47: =SUM(I47:AB47) -> 120 | AD47: 0
A48: RA7 Existing Planning Permissions - Local Plan Allocations Outline 20/00863/OUT Reserved Matters 22/01946/REM | B48: East of Valiant Square, Bury | C48: 3.6 | D48: Greenfield. Outline application (20/00863/OUT) for 87 was approved in July 2021. Reserved matters (22/01946/REM) approved in June 2024. Burmor Construction Limited and Building for Stonewater are the housebuilder involved in developing this site. The scheme is for solely affordable housing. Site commenced June 2026. | E48: 0 | F48: 87 | G48: =SUM(E48+AC48) -> 87 | H48: =SUM(K48:O48) -> 63 | I48: 0 | J48: 24 | K48: 63 | L48: 0 | M48: 0 | N48: 0 | O48: 0 | P48: 0 | Q48: 0 | R48: 0 | S48: 0 | T48: 0 | U48: 0 | V48: 0 | W48: 0 | X48: 0 | Y48: 0 | Z48: 0 | AA48: 0 | AB48: 0 | AC48: =SUM(I48:AB48) -> 87 | AD48: 0
A49: RA8 Existing Planning Permissions - Local Plan Allocations Outline 1201274OUT Reserved Maters 20/00161/REM | B49: RAF Upwood & Upwood Hill House | C49: 14.5 | D49: Brownfield. A reserved matters (20/00161/REM) for phase one (1201274OUT for 160 dwellings) was approved in September 2020 for the southern part of the site. Countryside Properties Ltd is the housebuilder for the site, with Hyde New Build as the beneficiary. All 160 dwellings are to be affordable. 90 built and other units are under construction. Trajectory response amended to reflect number under construction. | E49: 90 | F49: 70 | G49: =SUM(E49+AC49) -> 160 | H49: =SUM(K49:O49) -> 0 | I49: 40 | J49: 30 | K49: 0 | L49: 0 | M49: 0 | N49: 0 | O49: 0 | P49: 0 | Q49: 0 | R49: 0 | S49: 0 | T49: 0 | U49: 0 | V49: 0 | W49: 0 | X49: 0 | Y49: 0 | Z49: 0 | AA49: 0 | AB49: 0 | AC49: =SUM(I49:AB49) -> 70 | AD49: 0
A50: RA8 Local Plan Allocations without Planning Permission | B50: RAF Upwood & Upwood Hill House | C50: 10.5 | D50: Brownfield. A Full application (21/00572/FUL) for 317on phase two was submitted in March 2021. The application is approaching completion subjects to resolution of final highway issues. With the approval of 160 dwellings under 20/00161/REM, this application would bring the site capacity up to 477. Estimated. | E50: 0 | F50: 317 | G50: =SUM(E50+AC50) -> 317 | H50: =SUM(K50:O50) -> 227 | K50: 27 | L50: 50 | M50: 50 | N50: 50 | O50: 50 | P50: 50 | Q50: 40 | R50: 0 | S50: 0 | T50: 0 | U50: 0 | V50: 0 | W50: 0 | X50: 0 | Y50: 0 | Z50: 0 | AA50: 0 | AB50: 0 | AC50: =SUM(I50:AB50) -> 317 | AD50: 0
A51: BU1 Existing Planning Permissions - Local Plan Allocations Outline 18/02753/OUT | B51: East of Silver Street and South of A1, Buckden | C51: 14.8 | D51: Greenfield. An outline application (18/02753/OUT) application was approved in August 2022. Reserved matters submitted in May 2026 (26/00956/REM). Morris Homes are the housebuilders for this site. Deferred by one year. | E51: 0 | F51: 290 | G51: =SUM(E51+AC51) -> 290 | H51: =SUM(K51:O51) -> 220 | I51: 0 | J51: 0 | K51: 20 | L51: 50 | M51: 50 | N51: 50 | O51: 50 | P51: 50 | Q51: 20 | R51: 0 | S51: 0 | T51: 0 | U51: 0 | V51: 0 | W51: 0 | X51: 0 | Y51: 0 | Z51: 0 | AA51: 0 | AB51: 0 | AC51: =SUM(I51:AB51) -> 290 | AD51: 0
A52: FS3 Existing Planning Permissions - Local Plan Allocations Outline 20/02128/OUT | B52: Cambridge Road, Fenstanton - East | C52: 2.4 | D52: Greenfield. Outline planning application (20/02128/OUT) for 39 dwellings was permitted in September 2022. 25/01668/REM submitted in September 2025. | E52: 0 | F52: 39 | G52: =SUM(E52+AC52) -> 39 | H52: =SUM(K52:O52) -> 39 | I52: 0 | J52: 0 | K52: 0 | L52: 19 | M52: 20 | N52: 0 | O52: 0 | P52: 0 | Q52: 0 | R52: 0 | S52: 0 | T52: 0 | U52: 0 | V52: 0 | W52: 0 | X52: 0 | Y52: 0 | Z52: 0 | AA52: 0 | AB52: 0 | AC52: =SUM(I52:AB52) -> 39 | AD52: 0
A53: KB2 Local Plan Allocations without Planning Permission | B53: North of Station Road/Stow Road, Kimbolton | C53: 2.5 | D53: Greenfield. 25/01029/FUL for 65 dwellings was received in June 2025 and it has DMC approval in December 2025. It now waiting on the agent to finalise the S106 and there are also ongoing investigations/discussions with Anglian Water around the foul drainage scheme which can be dealt with by condition. DN is expected to be issued soon. | E53: 0 | F53: 65 | G53: =SUM(E53+AC53) -> 65 | H53: =SUM(K53:O53) -> 65 | I53: 0 | J53: 0 | K53: 0 | L53: 30 | M53: 35 | N53: 0 | O53: 0 | P53: 0 | Q53: 0 | R53: 0 | S53: 0 | T53: 0 | U53: 0 | V53: 0 | W53: 0 | X53: 0 | Y53: 0 | Z53: 0 | AA53: 0 | AB53: 0 | AC53: =SUM(I53:AB53) -> 65 | AD53: 0
A54: SY1 Existing Planning Permissions - Local Plan Allocations Full 19/01294/FUL | B54: Land East Of Glebe Farm Gidding Road, Sawtry | C54: 10.8 | D54: Greenfield. Wider allocation of 80 dwellings built out. 19/01294/FUL is for 6 additional dwellings in the south west corner of the site along Gidding Road permitted in November 2021. Under construction. | E54: 0 | F54: 6 | G54: =SUM(E54+AC54) -> 6 | H54: =SUM(K54:O54) -> 0 | I54: 6 | J54: 0 | K54: 0 | L54: 0 | M54: 0 | N54: 0 | O54: 0 | P54: 0 | Q54: 0 | R54: 0 | S54: 0 | T54: 0 | U54: 0 | V54: 0 | W54: 0 | X54: 0 | Y54: 0 | Z54: 0 | AA54: 0 | AB54: 0 | AC54: =SUM(I54:AB54) -> 6 | AD54: 0
A55: SY2 Existing Planning Permissions - Local Plan Allocations Outline 17/00077/OUT Reserved Matters 19/00462/REM | B55: South of Gidding Rd, Sawtry | C55: 10.8 | D55: Greenfield. Outline permission granted May 2018. Site acquired by Bovis Homes and a reserved matters application (19/00462/REM) for 295 was approved in November 2019. The site is nearing completion with final units to complete. | E55: 288 | F55: 7 | G55: =SUM(E55+AC55) -> 295 | H55: =SUM(K55:O55) -> 0 | I55: 7 | J55: 0 | K55: 0 | L55: 0 | M55: 0 | N55: 0 | O55: 0 | P55: 0 | Q55: 0 | R55: 0 | S55: 0 | T55: 0 | U55: 0 | V55: 0 | W55: 0 | X55: 0 | Y55: 0 | Z55: 0 | AA55: 0 | AB55: 0 | AC55: =SUM(I55:AB55) -> 7 | AD55: 0
A56: SM2 Existing Planning Permissions - Local Plan Allocations Outline 15/00917/OUT Reserved Matters 19/02220/REM | B56: Newlands, Somersham | C56: 2.5 | D56: Greenfield. Outline application for 45 dwellings and a residential care home in November 2017. A reserved matters application (19/02220/REM) for 45 dwellings was approved in September 2021. A reserved matters (19/02289/REM) for a residential care home was approved in December 2021. The site is under construction and being buildout by Rose Homes and Muir Group Housing Association. | E56: 38 | F56: 7 | G56: =SUM(E56+AC56) -> 45 | H56: =SUM(K56:O56) -> 0 | I56: 7 | J56: 0 | K56: 0 | L56: 0 | M56: 0 | N56: 0 | O56: 0 | P56: 0 | Q56: 0 | R56: 0 | S56: 0 | T56: 0 | U56: 0 | V56: 0 | W56: 0 | X56: 0 | Y56: 0 | Z56: 0 | AA56: 0 | AB56: 0 | AC56: =SUM(I56:AB56) -> 7 | AD56: 0
A57: SM5 Existing Planning Permissions - Local Plan Allocations Outline 19/01790/OUT Reserved Matters 23/00369/REM | B57: North of The Bank, Somersham | C57: 2.1 | D57: Greenfield. An outline for the site was permitted in February 2023 for 132 dwellings including one self build dwelling (19/01790/OUT). Allison Homes East, Amplius as registered provider are involved with delivering the site. Reserved matters application (23/00369/REM) approved in May 2024. Site under construction. Trajectory revised to align with completions on site. | E57: 64 | F57: 68 | G57: =SUM(E57+AC57) -> 132 | H57: =SUM(K57:O57) -> 0 | I57: 48 | J57: 20 | K57: 0 | L57: 0 | M57: 0 | N57: 0 | O57: 0 | P57: 0 | Q57: 0 | R57: 0 | S57: 0 | T57: 0 | U57: 0 | V57: 0 | W57: 0 | X57: 0 | Y57: 0 | Z57: 0 | AA57: 0 | AB57: 0 | AC57: =SUM(I57:AB57) -> 68 | AD57: 0
A58: WB1 Existing Planning Permissions - Local Plan Allocations Outline 20/00308/OUT Reserved Matters 23/02505/REM | B58: West of Ramsey Road, Warboys (Southern part) | C58: 0.9 | D58: Greenfield. Site is in dual ownership. Southern part of the site has 20/00308/OUT for 24 dwellings was approved in October 2021. 20/00723/FUL for the demolition of 21 Ramsey Road to allow for access to the site was approved in October 2021. A reserved matters application (23/02505/REM) was approved in September 2024. Stonewater Housing Association are involved with bringing forward the site. | E58: 0 | F58: 24 | G58: =SUM(E58+AC58) -> 24 | H58: =SUM(K58:O58) -> 7 | I58: 0 | J58: 17 | K58: 7 | L58: 0 | M58: 0 | N58: 0 | O58: 0 | P58: 0 | Q58: 0 | R58: 0 | S58: 0 | T58: 0 | U58: 0 | V58: 0 | W58: 0 | X58: 0 | Y58: 0 | Z58: 0 | AA58: 0 | AB58: 0 | AC58: =SUM(I58:AB58) -> 24 | AD58: 0
A59: WB1 Local Plan Allocations without Planning Permission | B59: West of Ramsey Road, Warboys (Northern part) | C59: 0.8 | D59: Greenfield. Site is in dual ownership. A full application for the northern part submitted November 2025 (25/02130/FUL) for 21 dwellings, this was approved subject to S106 at DMC in June 2026. Deferred by one year and split over two years. | E59: 0 | F59: 21 | G59: =SUM(E59+AC59) -> 21 | H59: =SUM(K59:O59) -> 21 | I59: 0 | J59: 0 | K59: 10 | L59: 11 | M59: 0 | N59: 0 | O59: 0 | P59: 0 | Q59: 0 | R59: 0 | S59: 0 | T59: 0 | U59: 0 | V59: 0 | W59: 0 | X59: 0 | Y59: 0 | Z59: 0 | AA59: 0 | AB59: 0 | AC59: =SUM(I59:AB59) -> 21 | AD59: 0
D60: Subtotal | E60: =SUM(E36:E59) -> 3310 | F60: =SUM(F36:F59) -> 10694 | G60: =SUM(G36:G59) -> 10856 | H60: =SUM(H36:H59) -> 4435 | I60: =SUM(I36:I59) -> 503 | J60: =SUM(J36:J59) -> 607 | K60: =SUM(K36:K59) -> 766 | L60: =SUM(L36:L59) -> 860 | ... AD60: =SUM(AD36:AD59) -> 0
A62: Other Commitments: Subject to S106
A63: Outline 25/00892/OUT | B63: Land west of Peterborough Road, Farcet | D63: Greenfield. Approved at Development Management Committee (subject to signing of S106) on 23 March 2026 with a condition that a reserved matters application be submitted within two years of outline approval. Persimmon Homes involved with the site. Agent anticipates reserve matters to be submitted in quarter two of 2027. Deferred by two years. | E63: 0 | F63: 185 | G63: =E63+AC63 -> 185 | H63: =SUM(K63:O63) -> 95 | I63: 0 | J63: 0 | K63: 0 | L63: 0 | M63: 25 | N63: 35 | O63: 35 | P63: 40 | Q63: 40 | R63: 10 | S63: 0 | T63: 0 | U63: 0 | V63: 0 | W63: 0 | X63: 0 | Y63: 0 | Z63: 0 | AA63: 0 | AB63: 0 | AC63: =SUM(I63:AB63) -> 185 | AD63: 0
A64: Full 25/01279/FUL | B64: Land north of Station Road, Warboys | D64: Greenfield. Approved at Development Management Committee (subject to signing of S106) on 16 March 2026. The permission is expected to be granted in the end of 2026. Estimated. | E64: 0 | F64: 43 | G64: =E64+AC64 -> 43 | H64: =SUM(K64:O64) -> 43 | I64: 0 | J64: 0 | K64: 0 | L64: 21 | M64: 22 | N64: 0 | O64: 0 | P64: 0 | Q64: 0 | R64: 0 | S64: 0 | T64: 0 | U64: 0 | V64: 0 | W64: 0 | X64: 0 | Y64: 0 | Z64: 0 | AA64: 0 | AB64: 0 | AC64: =SUM(I64:AB64) -> 43 | AD64: 0
D65: Subtotal | E65: =SUM(E63) -> 0 | F65: =SUM(F63:F64) -> 228 | G65: =SUM(G63:G64) -> 228 | H65: =SUM(H63:H64) -> 138 | I65: =SUM(I63:I64) -> 0 | J65: =SUM(J63:J64) -> 0 | K65: =SUM(K63:K64) -> 0 | L65: =SUM(L63:L64) -> 21 | M65: =SUM(M63:M64) -> 47 | ... AD65: =SUM(AD63:AD64) -> 0
A68: Other Sources - 'Prior Approval' Conversions to C3 residential use under GPDO
A69: Prior Approval sites | B69: n/a | C69: n/a | D69: A review of housing completions delivered via prior approval, has shown that on average since 2014, 29 homes a year have been delivered through this route. As at 31st March 2026, there were 125 homes committed via prior approval to be built. This justifies the trajectory including a projection of 25 homes a year to be delivered via prior approval. This comprises the sites identified and an allowance for future sites to come forward. | E69: 0 | F69: 500 | G69: 500 | H69: =SUM(K69:O69) -> 125 | I69: 25 | J69: 25 | K69: 25 | L69: 25 | M69: 25 | N69: 25 | O69: 25 | P69: 25 | Q69: 25 | R69: 25 | S69: 25 | T69: 25 | U69: 25 | V69: 25 | W69: 25 | X69: 25 | Y69: 25 | Z69: 25 | AA69: 25 | AB69: 25 | AC69: =SUM(I69:AB69) -> 500 | AD69: 0
D70: Subtotal | E70: =SUM(E69:E69) -> 0 | F70: =SUM(F69) -> 500 | G70: =SUM(G69) -> 500 | H70: =SUM(I70:L70) -> 100 | I70: =SUM(I69) -> 25 | J70: =SUM(J69) -> 25 | K70: =SUM(K69) -> 25 | L70: =SUM(L69) -> 25 | M70: =SUM(M69) -> 25 | N70: =SUM(N69) -> 25 | O70: =SUM(O69) -> 25 | P70: =SUM(P69) -> 25 | ... AD70: =SUM(AD69) -> 0
A72: Windfall and Rural Exception Sites
A73: Windfall small sites (less than 10 dwellings) | B73: n/a | C73: n/a | D73: The average small site completions, including change of use and excluding prior approvals, 11 of the last 15 years has achieved over 120 completions. Therefore it is reasonable to place an allowance of 120 for small sites to reflect a realistic picture on small site delivery going forward. Have subtracted the outline permissions from the annual estimate of 120. | E73: n/a | F73: 1680 | G73: 1680 | H73: =SUM(K73:O73) -> 120 | I73: 0 | J73: 0 | K73: 0 | L73: 0 | M73: 0 | N73: 0 | O73: 120 | P73: 120 | Q73: 120 | R73: 120 | S73: 120 | T73: 120 | U73: 120 | V73: 120 | W73: 120 | X73: 120 | Y73: 120 | Z73: 120 | AA73: 120 | AB73: 120 | AC73: =SUM(I73:AB73) -> 1680 | AD73: 0
A74: Rural Exception Sites | B74: n/a | C74: n/a | D74: 20 dwellings a year from 2033/2034 is a reasonable allowance for future rural exception sites given the historic delivery of such sites in the district. Such sites tend to range between 10 and 20 dwellings. Permitted rural exception sites that are yet to be built out are listed above in the trajectory: 20/00164/OUT for 16 dwellings in Hilton, 20/00208/OUT for 10 dwellings in Holme, 21/02139/FUL for 28 dwellings in Upwood and 21/02027/OUT for 15 dwellings in Alconbury Weston. | E74: n/a | F74: 260 | G74: 260 | H74: =SUM(K74:O74) -> 0 | I74: 0 | J74: 0 | K74: 0 | L74: 0 | M74: 0 | N74: 0 | O74: 0 | P74: 20 | Q74: 20 | R74: 20 | S74: 20 | T74: 20 | U74: 20 | V74: 20 | W74: 20 | X74: 20 | Y74: 20 | Z74: 20 | AA74: 20 | AB74: 20 | AC74: =SUM(I74:AB74) -> 260 | AD74: 0
D75: Subtotal | E75: n/a | F75: =SUM(F73:F74) -> 1940 | G75: =SUM(G73:G74) -> 1940 | H75: =SUM(H73:H74) -> 120 | I75: =SUM(I73:I74) -> 0 | J75: =SUM(J73:J74) -> 0 | K75: =SUM(K73:K74) -> 0 | L75: =SUM(L73:L74) -> 0 | M75: =SUM(M73:M74) -> 0 | ... AB75: =SUM(AB73:AB74) -> 140 | AC75: =SUM(I75:AB75) -> 1940 | AD75: 0
A77: Pre-Submission Allocations in Local Plan to 2046
A78: Abbots Ripton 1 | B78: Home Farm South | C78: 2.83 | D78: Mixed greenfield and brownfield. Mixed use allocation for 15 homes and 0.5ha of commercial development. Outline anticipated by the end of 2026. Deferred one year. | E78: 0 | F78: 15 | G78: 15 | H78: =SUM(K78:O78) -> 15 | I78: 0 | J78: 0 | K78: 0 | L78: 15 | M78: 0 | N78: 0 | O78: 0 | P78: 0 | Q78: 0 | R78: 0 | S78: 0 | T78: 0 | U78: 0 | V78: 0 | W78: 0 | X78: 0 | Y78: 0 | Z78: 0 | AA78: 0 | AB78: 0 | AC78: =SUM(I78:AB78) -> 15 | AD78: =F78-AC78 -> 0
A79: Alconbury 1 | B79: Land South of Great North Road, Alconbury | C79: 1.4 | D79: Greenfield. Allocation for 30 homes. Estimated. | E79: 0 | F79: 30 | G79: 30 | H79: =SUM(K79:O79) -> 30 | I79: 0 | J79: 0 | K79: 0 | L79: 0 | M79: 0 | N79: 15 | O79: 15 | P79: 0 | Q79: 0 | R79: 0 | S79: 0 | T79: 0 | U79: 0 | V79: 0 | W79: 0 | X79: 0 | Y79: 0 | Z79: 0 | AA79: 0 | AB79: 0 | AC79: =SUM(I79:AB79) -> 30 | AD79: =F79-AC79 -> 0
A80: Alconbury 2 | B80: Land to the East of Globe Lane (smaller site), Alconbury | C80: 3.5 | D80: Greenfield. Allocation for 60 homes. Deferred by two years and capacity kept in line with allocation. | E80: 0 | F80: 60 | G80: 60 | H80: =SUM(K80:O80) -> 60 | I80: 0 | J80: 0 | K80: 0 | L80: 0 | M80: 0 | N80: 30 | O80: 30 | P80: 0 | Q80: 0 | R80: 0 | S80: 0 | T80: 0 | U80: 0 | V80: 0 | W80: 0 | X80: 0 | Y80: 0 | Z80: 0 | AA80: 0 | AB80: 0 | AC80: =SUM(I80:AB80) -> 60 | AD80: =F80-AC80 -> 0
A81: Bluntisham 1 | B81: Land off 18 Holliday's Road, Bluntisham | C81: 2 | D81: Mixed greenfield and brownfield. Allocation for 35 homes. The site promoter is actively working to bring this site forwards and seeking up to 50 houses. Capacity kept in line with the allocation. Deferred by eight years due to coincide with WRC infrastructure upgrades. | E81: 0 | F81: 35 | G81: 35 | H81: =SUM(K81:O81) -> 0 | I81: 0 | J81: 0 | K81: 0 | L81: 0 | M81: 0 | N81: 0 | O81: 0 | P81: 0 | Q81: 0 | R81: 12 | S81: 23 | T81: 0 | U81: 0 | V81: 0 | W81: 0 | X81: 0 | Y81: 0 | Z81: 0 | AA81: 0 | AB81: 0 | AC81: =SUM(I81:AB81) -> 35 | AD81: =F81-AC81 -> 0
A82: Bluntisham 2 | B82: Land West of Colne Road, Bluntisham | C82: 7.78 | D82: Greenfield. Allocation for 85 homes, car parking and open space. 25/01965/OUT for 90 homes, parking and open space. Deferred by nine years to coincide with WRC infrastructure upgrades. | E82: 0 | F82: 85 | G82: 85 | H82: =SUM(K82:O82) -> 0 | I82: 0 | J82: 0 | K82: 0 | L82: 0 | M82: 0 | N82: 0 | O82: 0 | P82: 0 | Q82: 0 | R82: 0 | S82: 40 | T82: 45 | U82: 0 | V82: 0 | W82: 0 | X82: 0 | Y82: 0 | Z82: 0 | AA82: 0 | AB82: 0 | AC82: =SUM(I82:AB82) -> 85 | AD82: =F82-AC82 -> 0
A83: Brampton 1 | B83: Wallis Land, Thrapston Road, Brampton | C83: 0.73 | D83: Greenfield. Allocation for 10 homes and 0.4ha of open space. Build out deferred to year 9 to coincide with WRC infrastructure upgrades if required. Estimated. | E83: 0 | F83: 10 | H83: =SUM(K83:O83) -> 0 | I83: 0 | J83: 0 | K83: 0 | L83: 0 | M83: 0 | N83: 0 | O83: 0 | P83: 0 | Q83: 5 | R83: 5 | S83: 0 | T83: 0 | U83: 0 | V83: 0 | W83: 0 | X83: 0 | Y83: 0 | Z83: 0 | AA83: 0 | AB83: 0 | AC83: =SUM(I83:AB83) -> 10 | AD83: =F83-AC83 -> 0
A84: Bury 1 | B84: Bury Industrial Estate, Old Station Road, Bury | C84: 0.96 | D84: Brownfield. Redevelopment of former industrial buildings in Bury for 30 homes. Outline application scheduled to be submitted by the end of 2026. Pre-application submitted. | E84: 0 | F84: 30 | G84: 30 | H84: =SUM(K84:O84) -> 30 | I84: 0 | J84: 0 | K84: 0 | L84: 0 | M84: 15 | N84: 15 | O84: 0 | P84: 0 | Q84: 0 | R84: 0 | S84: 0 | T84: 0 | U84: 0 | V84: 0 | W84: 0 | X84: 0 | Y84: 0 | Z84: 0 | AA84: 0 | AB84: 0 | AC84: =SUM(I84:AB84) -> 30 | AD84: =F84-AC84 -> 0
A85: Bury 3 | B85: RAF Upwood - Phase 3 | C85: 17.69 | D85: Brownfield. Phase 3 of the wider RAF Upwood redevelopment providing a further 170 homes and 11.5ha for green infrastructure. Deferred by four years due to dependency on the Phase two for access and capacity kept in line with allocation. Agent has the aspiration for 250 houses. | E85: 0 | F85: 170 | G85: 170 | H85: =SUM(K85:O85) -> 0 | I85: 0 | J85: 0 | K85: 0 | L85: 0 | M85: 0 | N85: 0 | O85: 0 | P85: 0 | Q85: 20 | R85: 50 | S85: 50 | T85: 50 | U85: 0 | V85: 0 | W85: 0 | X85: 0 | Y85: 0 | Z85: 0 | AA85: 0 | AB85: 0 | AC85: =SUM(I85:AB85) -> 170 | AD85: =F85-AC85 -> 0
A86: Bythorn 1 | B86: Home Farm, Bythorn | C86: 0.98 | D86: Mixed. Redevelopment of agricultural farm complex. 25/02350/PIP for 8 homes permitted March 2026 for the northern half of the site. Another application for the rest of the site due to be submitted in Autumn 2026. Housebuilder identified. | E86: 0 | F86: 15 | G86: 15 | H86: =SUM(K86:O86) -> 15 | I86: 0 | J86: 0 | K86: 7 | L86: 0 | M86: 8 | N86: 0 | O86: 0 | P86: 0 | Q86: 0 | R86: 0 | S86: 0 | T86: 0 | U86: 0 | V86: 0 | W86: 0 | X86: 0 | Y86: 0 | Z86: 0 | AA86: 0 | AB86: 0 | AC86: =SUM(I86:AB86) -> 15 | AD86: =F86-AC86 -> 0
A87: Catworth 1 | B87: Fruit Field, Catworth | C87: 2.12 | D87: Greenfield. Deferred by one year and split to complete over two years. | E87: 0 | F87: 25 | G87: 25 | H87: =SUM(K87:O87) -> 25 | I87: 0 | J87: 0 | K87: 0 | L87: 12 | M87: 13 | N87: 0 | O87: 0 | P87: 0 | Q87: 0 | R87: 0 | S87: 0 | T87: 0 | U87: 0 | V87: 0 | W87: 0 | X87: 0 | Y87: 0 | Z87: 0 | AA87: 0 | AB87: 0 | AC87: =SUM(I87:AB87) -> 25 | AD87: =F87-AC87 -> 0
A88: Colne 1 | B88: Land at Ramadie, Earith Road, Colne | C88: 0.85 | D88: Mixed greenfield and brownfield. Allocation for 15 homes. Part permissioned - 25/01653/PIP for 3-4 dwellings on half of site permitted November 2025 and 24/02297/FUL for demolition and construction 1 dwelling on frontage permitted April 2025. Full application for the rest of the site expected to be submitted in 2028. Two housebuilders anticipated. Deferred non-permissioned dwellings by five years to coincide with WRC infrastructure upgrades. | E88: 0 | F88: 15 | G88: 15 | H88: =SUM(K88:O88) -> 5 | I88: 0 | J88: 0 | K88: 5 | L88: 0 | M88: 0 | N88: 0 | O88: 0 | P88: 0 | Q88: 10 | R88: 0 | S88: 0 | T88: 0 | U88: 0 | V88: 0 | W88: 0 | X88: 0 | Y88: 0 | Z88: 0 | AA88: 0 | AB88: 0 | AC88: =SUM(I88:AB88) -> 15 | AD88: =F88-AC88 -> 0
A89: Ellington 1 | B89: Old Sheds at Manor Farm, Ellington | C89: 2 | D89: Greenfield. Allocation for 35 homes. The agent expected the housebuilder to put in a full application in mid/late 2027. Deferred by two years. | E89: 0 | F89: 35 | G89: 35 | H89: =SUM(K89:O89) -> 35 | I89: 0 | J89: 0 | K89: 0 | L89: 0 | M89: 10 | N89: 25 | P89: 0 | Q89: 0 | R89: 0 | S89: 0 | T89: 0 | U89: 0 | V89: 0 | W89: 0 | X89: 0 | Y89: 0 | Z89: 0 | AA89: 0 | AB89: 0 | AC89: =SUM(I89:AB89) -> 35 | AD89: =F89-AC89 -> 0
A90: Ellington 2 | B90: Land west of Grafham Road, Ellington | C90: 1.87 | D90: Greenfield. 26/00007/PIP for 5 to 7 dwellings on north east corner permitted Feb 2026. House builder planed to submit a full application after the Plan adoption. Deferred by one year. | E90: 0 | F90: 35 | G90: 35 | H90: =SUM(K90:O90) -> 35 | I90: 0 | J90: 0 | K90: 0 | L90: 11 | M90: 12 | N90: 9 | O90: 3 | P90: 0 | Q90: 0 | R90: 0 | S90: 0 | T90: 0 | U90: 0 | V90: 0 | W90: 0 | X90: 0 | Y90: 0 | Z90: 0 | AA90: 0 | AB90: 0 | AC90: =SUM(I90:AB90) -> 35 | AD90: =F90-AC90 -> 0
A91: Godmanchester 1 | B91: RGE Engineering, Godmanchester | C91: 3.8 | D91: Brownfield. 25/01587/FUL was submitted in August 2025 for 82 dwellings and approved in February 2026. One housebuilder on site (Campbell Buchanan George). Site clearance and demolition started July 2026. | E91: 0 | F91: 82 | G91: =SUM(E91+AC91) -> 82 | H91: =SUM(K91:O91) -> 41 | I91: 0 | J91: 41 | K91: 41 | L91: 0 | M91: 0 | N91: 0 | O91: 0 | P91: 0 | Q91: 0 | R91: 0 | S91: 0 | T91: 0 | U91: 0 | V91: 0 | W91: 0 | X91: 0 | Y91: 0 | Z91: 0 | AA91: 0 | AB91: 0 | AC91: =SUM(I91:AB91) -> 82 | AD91: =F91-AC91 -> 0
A92: Godmanchester 2 | B92: Land West of London Road and South of Stokes Drive, Godmanchester | C92: 39.6 | D92: Greenfield. Mixed use allocation proposing an extension to the southern edge of Godmanchester comprising 550 new homes, green infrastructure, flood mitigation and a cemetery extension. Phase one ( 26/00620/OUT) submitted March 2026. Deferred by seven years to coincide with WRC infrastructure upgrades. Multiple developer party involved. Capacity kept in line with the allocation, but site promoters seeking higher numbers. | E92: 0 | F92: 550 | G92: 550 | H92: =SUM(K92:O92) -> 0 | I92: 0 | J92: 0 | K92: 0 | L92: 0 | M92: 0 | N92: 0 | O92: 0 | P92: 0 | Q92: 25 | R92: 75 | S92: 75 | T92: 75 | U92: 75 | V92: 75 | W92: 50 | X92: 50 | Y92: 50 | Z92: 0 | AA92: 0 | AB92: 0 | AC92: =SUM(I92:AB92) -> 550 | AD92: =F92-AC92 -> 0
A93: Grafham 1 | B93: Land adjacent to 24 Cedar Close, Grafham | C93: 0.88 | D93: Greenfield. Site proposed for 20 homes. 25/01103/PIP for 3 dwellings on frontage only permitted September 2025. The developer intended to submit a full application for one dwelling in Autumn 2026 and with remaining 18 dwellings to be delivered in 10 years' time. | E93: 0 | F93: 20 | G93: 20 | H93: =SUM(K93:O93) -> 0 | I93: 0 | J93: 2 | K93: 0 | L93: 0 | M93: 0 | N93: 0 | O93: 0 | P93: 0 | Q93: 0 | R93: 0 | S93: 9 | T93: 9 | U93: 0 | V93: 0 | W93: 0 | X93: 0 | Y93: 0 | Z93: 0 | AA93: 0 | AB93: 0 | AC93: =SUM(I93:AB93) -> 20 | AD93: =F93-AC93 -> 0
A94: Grafham 2 | B94: South of Village Farm, Grafham | C94: 1.1 | D94: Greenfield. Split over two years. | E94: 0 | F94: 25 | G94: 25 | H94: =SUM(K94:O94) -> 25 | I94: 0 | J94: 0 | K94: 0 | L94: 10 | M94: 15 | N94: 0 | O94: 0 | P94: 0 | Q94: 0 | R94: 0 | S94: 0 | T94: 0 | U94: 0 | V94: 0 | W94: 0 | X94: 0 | Y94: 0 | Z94: 0 | AA94: 0 | AB94: 0 | AC94: =SUM(I94:AB94) -> 25 | AD94: =F94-AC94 -> 0
A95: Great Paxton 1 | B95: West of High Street, Great Paxton | C95: 0.5 | D95: Greenfield. 25/02068/FUL for 9 dwellings withdrawn. 26/01081/FUL submitted in June 2026. | E95: 0 | F95: 9 | G95: 9 | H95: =SUM(K95:O95) -> 9 | I95: 0 | J95: 0 | K95: 9 | L95: 0 | M95: 0 | N95: 0 | O95: 0 | P95: 0 | Q95: 0 | R95: 0 | S95: 0 | T95: 0 | U95: 0 | V95: 0 | W95: 0 | X95: 0 | Y95: 0 | Z95: 0 | AA95: 0 | AB95: 0 | AC95: =SUM(I95:AB95) -> 9 | AD95: =F95-AC95 -> 0
A96: Great Staughton 1 | B96: Land East of B661, The Green, Great Staughton | C96: 0.9 | D96: Greenfield. Allocation for 15 homes. 26/00432/PIP has been permitted in April 2026 for nine dwellings. The promoter is now engaging with the Lead Local Flood Authority to challenge the existing mapping and seek a review of the flood risk classification. It can potentially increase the number to 20 houses. Capacity kept to 15. Partially deferred. | E96: 0 | F96: 15 | G96: 15 | H96: =SUM(K96:O96) -> 15 | I96: 0 | J96: 0 | K96: 9 | L96: 6 | M96: 0 | N96: 0 | O96: 0 | P96: 0 | Q96: 0 | R96: 0 | S96: 0 | T96: 0 | U96: 0 | V96: 0 | W96: 0 | X96: 0 | Y96: 0 | Z96: 0 | AA96: 0 | AB96: 0 | AC96: =SUM(I96:AB96) -> 15 | AD96: =F96-AC96 -> 0
A97: Hail Weston 1 | B97: Land West of 5 High Street, Hail Weston | C97: 0.8 | D97: Greenfield. Site originally proposed for 8 homes, reduced to 6 to align with the PIPs. 25/00460/PIP for 3 dwellings permitted May 2025. 26/00975/PIP for further 3 dwellings permitted July 2026. Estimated. | E97: 0 | F97: 6 | G97: 6 | H97: =SUM(K97:O97) -> 6 | I97: 0 | J97: 0 | K97: 3 | L97: 3 | M97: 0 | N97: 0 | O97: 0 | P97: 0 | Q97: 0 | R97: 0 | S97: 0 | T97: 0 | U97: 0 | V97: 0 | W97: 0 | X97: 0 | Y97: 0 | Z97: 0 | AA97: 0 | AB97: 0 | AC97: =SUM(I97:AB97) -> 6 | AD97: =F97-AC97 -> 0
A98: Hemingford Abbots 1 | B98: The Lattenburys (land to the South of the A1307 and North of A14, and West of A1198) | C98: 243 | D98: Greenfield. Mixed use allocation proposing two new villages totalling 3,800 homes. Outline application expected in 2027/2028. Deferred by one year and reduced the first year's number. | E98: 0 | F98: 3800 | G98: 2900 | H98: =SUM(K98:O98) -> 150 | I98: 0 | J98: 0 | K98: 0 | L98: 0 | M98: 0 | N98: 50 | O98: 100 | P98: 200 | Q98: 200 | R98: 200 | S98: 200 | T98: 200 | U98: 200 | V98: 200 | W98: 200 | X98: 200 | Y98: 200 | Z98: 200 | AA98: 200 | AB98: 200 | AC98: =SUM(I98:AB98) -> 2750 | AD98: =F98-AC98 -> 1050
A99: Holme 1 | B99: Land to North of Station Road, Holme | C99: 2.9 | D99: Mixed greenfield and brownfield. Mixed use allocation for 40 homes and 0.3ha of retail and health development. | E99: 0 | F99: 40 | G99: 40 | H99: =SUM(K99:O99) -> 0 | I99: 0 | J99: 0 | K99: 0 | L99: 0 | M99: 0 | N99: 0 | O99: 0 | P99: 0 | Q99: 0 | R99: 15 | S99: 15 | T99: 10 | U99: 0 | V99: 0 | W99: 0 | X99: 0 | Y99: 0 | Z99: 0 | AA99: 0 | AB99: 0 | AC99: =SUM(I99:AB99) -> 40 | AD99: =F99-AC99 -> 0
A100: Huntingdon 1 | B100: Hinchingbrooke Hospital | C100: 0.11 | D100: Brownfield. Hospital redevelopment. 25/02185/DEMDET for demolition of two accommodation blocks consisting of 26 units approved December 2025. 25/01391/FUL for relocation of 10 units and new accommodation block consisting of 42 new units approved October 2025. Demolition complete and new builds under construction. The trajectory shows the net gain of new units. | E100: 0 | F100: 42 | G100: 52 | H100: =SUM(K100:O100) -> 0 | I100: 16 | J100: 0 | K100: 0 | L100: 0 | M100: 0 | N100: 0 | O100: 0 | P100: 0 | Q100: 0 | R100: 15 | S100: 15 | T100: 10 | U100: 0 | V100: 0 | W100: 0 | X100: 0 | Y100: 0 | Z100: 0 | AA100: 0 | AB100: 0 | AC100: =SUM(I100:AB100) -> 56 | AD100: 0
A101: Huntingdon 2 | B101: Amber Centre, 36 Mayfield Road, Huntingdon | C101: 0.35 | D101: Brownfield. Redevelopment of the former Amber Centre in Huntingdon for 12 homes. Estimated. | E101: 0 | F101: 12 | G101: 12 | H101: =SUM(K101:O101) -> 12 | I101: 0 | J101: 0 | K101: 0 | L101: 12 | M101: 0 | N101: 0 | O101: 0 | P101: 0 | Q101: 0 | R101: 0 | S101: 0 | T101: 0 | U101: 0 | V101: 0 | W101: 0 | X101: 0 | Y101: 0 | Z101: 0 | AA101: 0 | AB101: 0 | AC101: =SUM(I101:AB101) -> 12 | AD101: =F101-AC101 -> 0
A102: Kimbolton 1 | B102: Brittens Farm, Station Road, Kimbolton | C102: 1.4 | D102: Greenfield. Allocation for 25 homes. 25/00433/FUL for 23 homes approved at DMC in February 2026 subjected to S106. Bewick Homes involved with the site. | E102: 0 | F102: 23 | G102: 23 | H102: =SUM(K102:O102) -> 23 | I102: 0 | J102: 0 | K102: 10 | L102: 13 | M102: 0 | N102: 0 | O102: 0 | P102: 0 | Q102: 0 | R102: 0 | S102: 0 | T102: 0 | U102: 0 | V102: 0 | W102: 0 | X102: 0 | Y102: 0 | Z102: 0 | AA102: 0 | AB102: 0 | AC102: =SUM(I102:AB102) -> 23 | AD102: =F102-AC102 -> 0
A103: Little Paxton 1 | B103: North of St James Road to North of High Street, Little Paxton | C103: 4.7 | D103: Greenfield. The site promoter considers 38 dwellings can be delivered on site and expects an outline application to be submitted in 2027. One housebuilder is expected to be involved. Identifies that there may be legal/land ownership issues regarding a strip of the haul road beyond the adopted highway not in the ownership of the site owner which will be required for development. Trajectory kept inline with the allocation as no application has yet been made. Deferred by three years. | E103: 0 | F103: 35 | G103: =SUM(E103+AC103) -> 35 | H103: =SUM(K103:O103) -> 15 | I103: 0 | J103: 0 | K103: 0 | L103: 0 | M103: 0 | N103: 0 | O103: 15 | P103: 20 | Q103: 0 | R103: 0 | S103: 0 | T103: 0 | U103: 0 | V103: 0 | W103: 0 | X103: 0 | Y103: 0 | Z103: 0 | AA103: 0 | AB103: 0 | AC103: =SUM(I103:AB103) -> 35 | AD103: =F103-AC103 -> 0
A104: Little Paxton 2 | B104: Land West of Little Paxton | C104: 20.36 | D104: Greenfield. Allocation for 410 new homes. Agent expects a hybrid application late 2027. The agent anticipated capacity up to 440. | E104: 0 | F104: 410 | G104: 410 | H104: =SUM(K104:O104) -> 150 | I104: 0 | J104: 0 | K104: 0 | L104: 0 | M104: 30 | N104: 60 | O104: 60 | P104: 60 | Q104: 60 | R104: 60 | S104: 40 | T104: 40 | U104: 0 | V104: 0 | W104: 0 | X104: 0 | Y104: 0 | Z104: 0 | AA104: 0 | AB104: 0 | AC104: =SUM(I104:AB104) -> 410 | AD104: =F104-AC104 -> 0
A105: Needingworth 1 | B105: Giffords Park, East of B1040, St Ives, (Needingworth) | C105: 122 | D105: Greenfield. Mixed use allocation proposing an extension to eastern edge of St Ives within Needingworth parish. It comprises about 1,750 homes. Outline planning application expected to be submitted in 2027. Deferred by four years. | E105: 0 | F105: 1750 | G105: 1750 | H105: =SUM(K105:O105) -> 0 | I105: 0 | J105: 0 | K105: 0 | L105: 0 | M105: 0 | N105: 0 | O105: 0 | P105: 0 | Q105: 50 | R105: 150 | S105: 150 | T105: 150 | U105: 150 | V105: 150 | W105: 150 | X105: 150 | Y105: 150 | Z105: 150 | AA105: 150 | AB105: 150 | AC105: =SUM(I105:AB105) -> 1700 | AD105: =F105-AC105 -> 50
A106: Needingworth 2 | B106: South of A1123 | C106: 10.6 | D106: Greenfield. Mixed use allocation proposing up to 100 homes and community retail facilities. Agent expected to submit the Outline application in 2027/28. Deferred by four years to coincide with WRC infrastructure upgrades if required. | E106: 0 | F106: 100 | G106: 100 | H106: =SUM(K106:O106) -> 0 | I106: 0 | J106: 0 | K106: 0 | L106: 0 | M106: 0 | N106: 0 | O106: 0 | P106: 0 | Q106: 0 | R106: 50 | S106: 50 | T106: 0 | U106: 0 | V106: 0 | W106: 0 | X106: 0 | Y106: 0 | Z106: 0 | AA106: 0 | AB106: 0 | AC106: =SUM(I106:AB106) -> 100 | AD106: =F106-AC106 -> 0
A107: North Huntingdon 3 | B107: Lodge Farm, North of A141 | C107: 317.7 | D107: Greenfield. Mixed use allocation proposing a new community of 4,900 homes. Deferred by four years to coincide with WRC infrastructure upgrades. | E107: 0 | F107: 4900 | G107: 3400 | H107: =SUM(K107:O107) -> 0 | I107: 0 | J107: 0 | K107: 0 | L107: 0 | M107: 0 | N107: 0 | O107: 0 | P107: 0 | Q107: 50 | R107: 100 | S107: 150 | T107: 200 | U107: 200 | V107: 200 | W107: 200 | X107: 300 | Y107: 300 | Z107: 300 | AA107: 300 | AB107: 300 | AC107: =SUM(I107:AB107) -> 2600 | AD107: =F107-AC107 -> 2300
A108: North Huntingdon 4 | B108: Wyton Airfield | C108: 253.89 | D108: Brownfield. Formerly an RAF airfield, the site is now being redeveloped for a mixed use new community of about 4,000 homes. Agent expected to submitted Outline/Hybrid application in 2028. | E108: 0 | F108: 4000 | G108: 2900 | H108: =SUM(K108:O108) -> 0 | I108: 0 | J108: 0 | K108: 0 | L108: 0 | M108: 0 | N108: 0 | O108: 0 | P108: 50 | Q108: 100 | R108: 100 | S108: 200 | T108: 200 | U108: 200 | V108: 200 | W108: 200 | X108: 200 | Y108: 200 | Z108: 200 | AA108: 200 | AB108: 200 | AC108: =SUM(I108:AB108) -> 2250 | AD108: =F108-AC108 -> 1750
A109: Offord Cluny 1 | B109: Land West of High Street and North of Dunstall Close (smaller site), Offord Cluny | C109: 2.8 | D109: Greenfield. Site proposed for 45 homes. Estimated. | E109: 0 | F109: 45 | G109: 45 | H109: =SUM(K109:O109) -> 0 | I109: 0 | J109: 0 | K109: 0 | L109: 0 | M109: 0 | N109: 0 | O109: 0 | P109: 0 | Q109: 20 | R109: 25 | S109: 0 | T109: 0 | U109: 0 | V109: 0 | W109: 0 | X109: 0 | Y109: 0 | Z109: 0 | AA109: 0 | AB109: 0 | AC109: =SUM(I109:AB109) -> 45 | AD109: =F109-AC109 -> 0
A110: Offord D'Arcy 1 | B110: Land to the West of Graveley Road, Offord D'Arcy | C110: 4.05 | D110: Greenfield. 25/01738/OUT for 70 homes. | E110: 0 | F110: 70 | G110: 70 | H110: =SUM(K110:O110) -> 70 | I110: 0 | J110: 0 | K110: 35 | L110: 35 | M110: 0 | N110: 0 | O110: 0 | P110: 0 | Q110: 0 | R110: 0 | S110: 0 | T110: 0 | U110: 0 | V110: 0 | W110: 0 | X110: 0 | Y110: 0 | Z110: 0 | AA110: 0 | AB110: 0 | AC110: =SUM(I110:AB110) -> 70 | AD110: =F110-AC110 -> 0
A111: Ramsey 2 | B111: Land North of Hollow Lane, Ramsey | C111: 1.7 | D111: Greenfield. Site proposed for 20 homes. Agent expected to submit Outline application in 2027. Deferred by one year. | E111: 0 | F111: 20 | G111: 20 | H111: =SUM(K111:O111) -> 20 | I111: 0 | J111: 0 | K111: 0 | L111: 10 | M111: 10 | N111: 0 | O111: 0 | P111: 0 | Q111: 0 | R111: 0 | S111: 0 | T111: 0 | U111: 0 | V111: 0 | W111: 0 | X111: 0 | Y111: 0 | Z111: 0 | AA111: 0 | AB111: 0 | AC111: =SUM(I111:AB111) -> 20 | AD111: =F111-AC111 -> 0
A112: Ramsey Forty Foot 2 | B112: Woodlane Farm, Ramsey Forty Foot | C112: 1.34 | D112: Greenfield. Agent expected to submit Outline application in 2027. Split over two years. | E112: 0 | F112: 30 | G112: 30 | H112: =SUM(K112:O112) -> 30 | I112: 0 | J112: 0 | K112: 0 | L112: 15 | M112: 15 | N112: 0 | O112: 0 | P112: 0 | Q112: 0 | R112: 0 | S112: 0 | T112: 0 | U112: 0 | V112: 0 | W112: 0 | X112: 0 | Y112: 0 | Z112: 0 | AA112: 0 | AB112: 0 | AC112: =SUM(I112:AB112) -> 30 | AD112: =F112-AC112 -> 0
A113: Sawtry 1 | B113: Land to the West of Glatton Road, Sawtry | C113: 12.48 | D113: Greenfield. Site proposed for 330 homes. Site adjoining Land North of Shawley Road and West of Glatton Road, Sawtry (Reserved Matters 22/01080/REM), so delivery will follow this. | E113: 0 | F113: 330 | G113: 330 | H113: =SUM(K113:O113) -> 0 | I113: 0 | J113: 0 | K113: 0 | L113: 0 | M113: 0 | N113: 0 | O113: 0 | P113: 20 | Q113: 40 | R113: 40 | S113: 40 | T113: 40 | U113: 40 | V113: 40 | W113: 40 | X113: 30 | Y113: 0 | Z113: 0 | AA113: 0 | AB113: 0 | AC113: =SUM(I113:AB113) -> 330 | AD113: =F113-AC113 -> 0
A114: Sawtry 2 | B114: Land East of Glatton Road and North of Brookside Industrial Estate, Sawtry | C114: 6.5 | D114: Greenfield. Site proposed for 170 homes. | E114: 0 | F114: 170 | G114: 170 | H114: =SUM(K114:O114) -> 0 | I114: 0 | J114: 0 | K114: 0 | L114: 0 | M114: 0 | N114: 0 | O114: 0 | P114: 0 | Q114: 0 | R114: 20 | S114: 35 | T114: 35 | U114: 35 | V114: 35 | W114: 10 | X114: 0 | Y114: 0 | Z114: 0 | AA114: 0 | AB114: 0 | AC114: =SUM(I114:AB114) -> 170 | AD114: =F114-AC114 -> 0
A115: Sawtry 3 | B115: West of Toll Bar Way and Green End Road | C115: 18.83 | D115: Greenfield. Site proposed for 330 homes. 26/01194/OUT submitted in July 2026 for 330 homes. Deferred by two years. | E115: 0 | F115: 330 | G115: 330 | H115: =SUM(K115:O115) -> 130 | I115: 0 | J115: 0 | K115: 0 | L115: 0 | M115: 30 | N115: 50 | O115: 50 | P115: 50 | Q115: 50 | R115: 50 | S115: 50 | T115: 0 | U115: 0 | V115: 0 | W115: 0 | X115: 0 | Y115: 0 | Z115: 0 | AA115: 0 | AB115: 0 | AC115: =SUM(I115:AB115) -> 330 | AD115: =F115-AC115 -> 0
... A117: Somersham 2 | B117: Dews Bus and Coach Depot, Chatteris Road, Somersham | C117: 2.15 | D117: Brownfield. Redevelopment of Dews Coaches site for 50 homes. Agent expected a Full application within 3 years and are actively searching for alternative site for the Dews Coaches. Deferred by 3 years to coincide with WRC infrastructure upgrades. | E117: 0 | F117: 50 | G117: 50 | H117: =SUM(K117:O117) -> 0 | I117: 0 | J117: 0 | K117: 0 | L117: 0 | M117: 0 | N117: 0 | O117: 0 | P117: 0 | Q117: 25 | R117: 25 | S117: 0 | T117: 0 | U117: 0 | V117: 0 | W117: 0 | X117: 0 | Y117: 0 | Z117: 0 | AA117: 0 | AB117: 0 | AC117: =SUM(I117:AB117) -> 50 | AD117: =F117-AC117 -> 0
A118: Somersham 3 | B118: College Farm, West of Newlands Industrial Estate, Somersham | C118: 1.8 | D118: Greenfield. 24/02259/FUL was submitted in December 2024 for 52 dwellings. This was refused in February 2026 due to concerns regarding water quality and waste water capacity. Bellway involved with the site. Delivery estimated to coincide with WRC infrastructure upgrades. Trajectory kept in line with allocation. | E118: 0 | F118: 45 | G118: =SUM(E118+AC118) -> 45 | H118: =SUM(K118:O118) -> 0 | I118: 0 | J118: 0 | K118: 0 | L118: 0 | M118: 0 | N118: 0 | O118: 0 | P118: 0 | Q118: 22 | R118: 23 | S118: 0 | T118: 0 | U118: 0 | V118: 0 | W118: 0 | X118: 0 | Y118: 0 | Z118: 0 | AA118: 0 | AB118: 0 | AC118: =SUM(I118:AB118) -> 45 | AD118: =F118-AC118 -> 0
A119: Spaldwick 1 | B119: Land east of Stow Road, Spaldwick | C119: 6.1 | D119: Greenfield. Agent expected to submit Outline application in 2027. Deferred by one year | E119: 0 | F119: 90 | G119: 90 | H119: =SUM(K119:O119) -> 90 | I119: 0 | J119: 0 | K119: 0 | L119: 30 | M119: 30 | N119: 30 | P119: 0 | Q119: 0 | R119: 0 | S119: 0 | T119: 0 | U119: 0 | V119: 0 | W119: 0 | X119: 0 | Y119: 0 | Z119: 0 | AA119: 0 | AB119: 0 | AC119: =SUM(I119:AB119) -> 90 | AD119: =F119-AC119 -> 0
...

Sheet Housing trajectory summary
A1: Housing trajectory summary table
B4: COMPLETIONS | G4: PROJECTED COMPLETIONS
F5: STEP 1 | K5: STEP 2 | P5: STEP 3
E6: * | I6: Yr 1 | J6: Yr 2 | K6: Yr 3 | L6: Yr 4 | M6: Yr 5 | N6: Yr 6 | O6: Yr 7 | P6: Yr 8 | Q6: Yr 9 | R6: Yr 10 | S6: Yr 11 | T6: Yr 12 | U6: Yr 13 | V6: Yr 14 | W6: Yr 15 | X6: Yr 16 | Y6: Yr 17 | Z6: Yr 18
B7: 2021/22 | C7: 2022/23 | D7: 2023/24 | E7: 2024/25 | F7: 2025/26 | G7: 2026/27 | H7: 2027/28 | I7: 2028/29 | J7: 2029/30 | K7: 2030/31 | L7: 2031/32 | M7: 2032/33 | N7: 2033/34 | O7: 2034/35 | P7: 2035/36 | Q7: 2036/37 | R7: 2037/38 | S7: 2038/39 | T7: 2039/40 | U7: 2040/41 | V7: 2041/42 | W7: 2042/43 | X7: 2043/44 | Y7: 2044/45 | Z7: 2045/46
A8: Homes completed and forecast to completed (net) | B8: 1049 | C8: 1250 | D8: 1265 | E8: 855 | F8: 1008 | G8: ='Local Plan housing trajectory'!I130 -> 757 | H8: ='Local Plan housing trajectory'!J130 -> 941 | I8: ='Local Plan housing trajectory'!K130 -> 1220 | J8: ='Local Plan housing trajectory'!L130 -> 1424 | K8: ='Local Plan housing trajectory'!M130 -> 1515 | L8: ='Local Plan housing trajectory'!N130 -> 1433 | M8: ='Local Plan housing trajectory'!O130 -> 1494 | N8: ='Local Plan housing trajectory'!P130 -> 1656 | ... Z8: ='Local Plan housing trajectory'!AB130 -> 1033
A9: Cumulative completions and forecast completions (net) | B9: =B8 -> 1049 | C9: =B9+C8 -> 2299 | D9: =C9+D8 -> 3564 | E9: =D9+E8 -> 4419 | F9: =E9+F8 -> 5427 | G9: =F9+G8 -> 6184 | H9: =G9+H8 -> 7125 | I9: =H9+I8 -> 8345 | J9: =I9+J8 -> 9769 | ... Z9: =Y9+Z8 -> 34451
A10: Annual homes target | F10: 1050 | G10: 1050 | H10: 1050 | I10: 1050 | J10: 1050 | K10: 1250 | L10: 1250 | M10: 1250 | N10: 1250 | O10: 1250 | P10: 1482 | Q10: 1482 | R10: 1482 | S10: 1482 | T10: 1482 | U10: 1482 | V10: 1482 | W10: 1482 | X10: 1482 | Y10: 1482 | Z10: 1482
A11: * Note: the government's published completions figure by 2024/25 is 4,402 so this figure has been used in the 5 year housing land supply figure set out in Appendix 7 of the Pre-Submission Huntingdonshire Local Plan to 2046.
